BEGIN:VCALENDAR
VERSION:2.0
METHOD:PUBLISH
PRODID:-//Tendenci - The Open Source AMS for Associations//Tendenci Codeba
 se MIMEDIR//EN
BEGIN:VEVENT
DESCRIPTION:--- This iCal file does *NOT* confirm registration.\nEvent det
 ails subject to change. ---\nhttps://www.avantgardenhouston.com/events/309
 /\n\nEvent Title: Wino Vino and I AM Mesmer\nStart Date / Time: May 05, 20
 12 22:00 PM US/Central\nLocation: upstairs 10 till 2\nhttp://www.myspace.c
 om/winovinomusic\nhttp://www.myspace.com/iammesmer\n\n--- This iCal file d
 oes *NOT* confirm registration.Event details subject to change. ---\n\n---
  By Tendenci - The Open Source AMS for Associations ---\n
UID:uid309@avantgardenhouston.com
SUMMARY:Wino Vino and I AM Mesmer
DTSTART:20120506T030000Z
DTEND:20120506T030000Z
CLASS:PUBLIC
PRIORITY:5
DTSTAMP:20260419T214347Z
TRANSP:OPAQUE
SEQUENCE:0
LOCATION:upstairs 10 till 2
X-ALT-DESC;FMTTYPE=text/html:<div>--- This iCal file does *NOT* confirm re
 gistration.Event details subject to change. ---</div><h1>Event Title: Wino
  Vino and I AM Mesmer</h1><div>https://www.avantgardenhouston.com/events/3
 09/</div><br /><div>When: May 05, 2012 22:00 PM US/Central</div><br /><div
 ><p><a href="http://www.myspace.com/winovinomusic">http://www.myspace.com/
 winovinomusic</a></p> <p><a href="http://www.myspace.com/iammesmer">http:/
 /www.myspace.com/iammesmer</a></p></div><div>--- This iCal file does *NOT*
  confirm registration.Event details subject to change. ---</div><div>--- T
 endenci&reg\; Software by <a href="https://www.tendenci.com">tendenci.com<
 /a> - The Open Source AMS for Associations ---</div>
BEGIN:VALARM
TRIGGER:-PT30M
ACTION:DISPLAY
DESCRIPTION:Reminder
END:VALARM
END:VEVENT
END:VCALENDAR
