BEGIN:VCALENDAR
VERSION:2.0
METHOD:PUBLISH
PRODID:-//Tendenci - The Open Source AMS for Associations//Tendenci Codeba
 se MIMEDIR//EN
BEGIN:VEVENT
DESCRIPTION:--- This iCal file does *NOT* confirm registration.\nEvent det
 ails subject to change. ---\nhttps://www.avantgardenhouston.com/events/31/
 \n\nEvent Title: Happy Hour\nStart Date / Time: Oct 29, 2011 18:00 PM US/C
 entral\nLocation: \nWeekdays from 5PM till 8PM $3 Mixed drinks\n$2 Domesti
 c Drafts\n$4 Homemade Sangria\n$15 Bottle of selected wines.\nLive PianoEx
 cellent Tacos served by El Palomo taqueria!\n\n--- This iCal file does *NO
 T* confirm registration.Event details subject to change. ---\n\n--- By Ten
 denci - The Open Source AMS for Associations ---\n
UID:uid31@avantgardenhouston.com
SUMMARY:Happy Hour
DTSTART:20111029T230000Z
DTEND:20111030T010000Z
CLASS:PUBLIC
PRIORITY:5
DTSTAMP:20260419T145839Z
TRANSP:OPAQUE
SEQUENCE:0
X-ALT-DESC;FMTTYPE=text/html:<div>--- This iCal file does *NOT* confirm re
 gistration.Event details subject to change. ---</div><h1>Event Title: Happ
 y Hour</h1><div>https://www.avantgardenhouston.com/events/31/</div><br /><
 div>When: Oct 29, 2011 18:00 PM US/Central</div><br /><div><p>Weekdays fro
 m 5PM till 8PM<br />&nbsp\;<br />$3 Mixed drinks</p> <p>$2 Domestic Drafts
 </p> <p>$4 Homemade Sangria</p> <p>$15 Bottle of selected wines.</p> <p>Li
 ve Piano<br />Excellent Tacos served by El Palomo taqueria!</p></div><div>
 --- This iCal file does *NOT* confirm registration.Event details subject t
 o change. ---</div><div>--- Tendenci&reg\; Software by <a href="https://ww
 w.tendenci.com">tendenci.com</a> - The Open Source AMS for Associations --
 -</div>
BEGIN:VALARM
TRIGGER:-PT30M
ACTION:DISPLAY
DESCRIPTION:Reminder
END:VALARM
END:VEVENT
END:VCALENDAR
