BEGIN:VCALENDAR
VERSION:2.0
METHOD:PUBLISH
PRODID:-//Tendenci - The Open Source AMS for Associations//Tendenci Codeba
 se MIMEDIR//EN
BEGIN:VEVENT
DESCRIPTION:--- This iCal file does *NOT* confirm registration.\nEvent det
 ails subject to change. ---\nhttps://www.avantgardenhouston.com/events/316
 /\n\nEvent Title: Dead Rabbits\nStart Date / Time: May 24, 2012 21:00 PM U
 S/Central\nLocation: upstairs 9PM till 2Am\n\n\n--- This iCal file does *N
 OT* confirm registration.Event details subject to change. ---\n\n--- By Te
 ndenci - The Open Source AMS for Associations ---\n
UID:uid316@avantgardenhouston.com
SUMMARY:Dead Rabbits
DTSTART:20120525T020000Z
DTEND:20120525T020000Z
CLASS:PUBLIC
PRIORITY:5
DTSTAMP:20260419T232201Z
TRANSP:OPAQUE
SEQUENCE:0
LOCATION:upstairs 9PM till 2Am
X-ALT-DESC;FMTTYPE=text/html:<div>--- This iCal file does *NOT* confirm re
 gistration.Event details subject to change. ---</div><h1>Event Title: Dead
  Rabbits</h1><div>https://www.avantgardenhouston.com/events/316/</div><br 
 /><div>When: May 24, 2012 21:00 PM US/Central</div><br /><div></div><div>-
 -- This iCal file does *NOT* confirm registration.Event details subject to
  change. ---</div><div>--- Tendenci&reg\; Software by <a href="https://www
 .tendenci.com">tendenci.com</a> - The Open Source AMS for Associations ---
 </div>
BEGIN:VALARM
TRIGGER:-PT30M
ACTION:DISPLAY
DESCRIPTION:Reminder
END:VALARM
END:VEVENT
END:VCALENDAR
