BEGIN:VCALENDAR
VERSION:2.0
METHOD:PUBLISH
PRODID:-//Tendenci - The Open Source AMS for Associations//Tendenci Codeba
 se MIMEDIR//EN
BEGIN:VEVENT
DESCRIPTION:--- This iCal file does *NOT* confirm registration.\nEvent det
 ails subject to change. ---\nhttps://www.avantgardenhouston.com/events/320
 /\n\nEvent Title: Untitled eventone Hunddit "Salutes You" \nStart Date / T
 ime: Jun 08, 2012 21:30 PM US/Central\nLocation: \nw special guest\n\n--- 
 This iCal file does *NOT* confirm registration.Event details subject to ch
 ange. ---\n\n--- By Tendenci - The Open Source AMS for Associations ---\n
UID:uid320@avantgardenhouston.com
SUMMARY:Untitled eventone Hunddit "Salutes You" 
DTSTART:20120609T023000Z
DTEND:20120609T023000Z
CLASS:PUBLIC
PRIORITY:5
DTSTAMP:20260420T011137Z
TRANSP:OPAQUE
SEQUENCE:0
X-ALT-DESC;FMTTYPE=text/html:<div>--- This iCal file does *NOT* confirm re
 gistration.Event details subject to change. ---</div><h1>Event Title: Unti
 tled eventone Hunddit "Salutes You" </h1><div>https://www.avantgardenhoust
 on.com/events/320/</div><br /><div>When: Jun 08, 2012 21:30 PM US/Central<
 /div><br /><div><p>w special guest</p></div><div>--- This iCal file does *
 NOT* confirm registration.Event details subject to change. ---</div><div>-
 -- Tendenci&reg\; Software by <a href="https://www.tendenci.com">tendenci.
 com</a> - The Open Source AMS for Associations ---</div>
BEGIN:VALARM
TRIGGER:-PT30M
ACTION:DISPLAY
DESCRIPTION:Reminder
END:VALARM
END:VEVENT
END:VCALENDAR
