BEGIN:VCALENDAR
VERSION:2.0
METHOD:PUBLISH
PRODID:-//Tendenci - The Open Source AMS for Associations//Tendenci Codeba
 se MIMEDIR//EN
BEGIN:VEVENT
DESCRIPTION:--- This iCal file does *NOT* confirm registration.\nEvent det
 ails subject to change. ---\nhttps://www.avantgardenhouston.com/events/329
 /\n\nEvent Title: Nathan Quick with Nick Greer and the G's\nStart Date / T
 ime: Jun 15, 2012 21:30 PM US/Central\nLocation: \n\n\n--- This iCal file 
 does *NOT* confirm registration.Event details subject to change. ---\n\n--
 - By Tendenci - The Open Source AMS for Associations ---\n
UID:uid329@avantgardenhouston.com
SUMMARY:Nathan Quick with Nick Greer and the G's
DTSTART:20120616T023000Z
DTEND:20120616T045900Z
CLASS:PUBLIC
PRIORITY:5
DTSTAMP:20260420T011246Z
TRANSP:OPAQUE
SEQUENCE:0
X-ALT-DESC;FMTTYPE=text/html:<div>--- This iCal file does *NOT* confirm re
 gistration.Event details subject to change. ---</div><h1>Event Title: Nath
 an Quick with Nick Greer and the G's</h1><div>https://www.avantgardenhoust
 on.com/events/329/</div><br /><div>When: Jun 15, 2012 21:30 PM US/Central<
 /div><br /><div></div><div>--- This iCal file does *NOT* confirm registrat
 ion.Event details subject to change. ---</div><div>--- Tendenci&reg\; Soft
 ware by <a href="https://www.tendenci.com">tendenci.com</a> - The Open Sou
 rce AMS for Associations ---</div>
BEGIN:VALARM
TRIGGER:-PT30M
ACTION:DISPLAY
DESCRIPTION:Reminder
END:VALARM
END:VEVENT
END:VCALENDAR
