BEGIN:VCALENDAR
VERSION:2.0
METHOD:PUBLISH
PRODID:-//Tendenci - The Open Source AMS for Associations//Tendenci Codeba
 se MIMEDIR//EN
BEGIN:VEVENT
DESCRIPTION:--- This iCal file does *NOT* confirm registration.\nEvent det
 ails subject to change. ---\nhttps://www.avantgardenhouston.com/events/330
 /\n\nEvent Title: Sand Dollar Swing with Nick Greer & The G's\nStart Date 
 / Time: Jun 22, 2012 21:45 PM US/Central\nLocation: AvantGarden upstairs t
 ill 2am\n\n\n--- This iCal file does *NOT* confirm registration.Event deta
 ils subject to change. ---\n\n--- By Tendenci - The Open Source AMS for As
 sociations ---\n
UID:uid330@avantgardenhouston.com
SUMMARY:Sand Dollar Swing with Nick Greer & The G's
DTSTART:20120623T024500Z
DTEND:20120623T024500Z
CLASS:PUBLIC
PRIORITY:5
DTSTAMP:20260420T011214Z
TRANSP:OPAQUE
SEQUENCE:0
LOCATION:AvantGarden upstairs till 2am
X-ALT-DESC;FMTTYPE=text/html:<div>--- This iCal file does *NOT* confirm re
 gistration.Event details subject to change. ---</div><h1>Event Title: Sand
  Dollar Swing with Nick Greer & The G's</h1><div>https://www.avantgardenho
 uston.com/events/330/</div><br /><div>When: Jun 22, 2012 21:45 PM US/Centr
 al</div><br /><div></div><div>--- This iCal file does *NOT* confirm regist
 ration.Event details subject to change. ---</div><div>--- Tendenci&reg\; S
 oftware by <a href="https://www.tendenci.com">tendenci.com</a> - The Open 
 Source AMS for Associations ---</div>
BEGIN:VALARM
TRIGGER:-PT30M
ACTION:DISPLAY
DESCRIPTION:Reminder
END:VALARM
END:VEVENT
END:VCALENDAR
