BEGIN:VCALENDAR
VERSION:2.0
METHOD:PUBLISH
PRODID:-//Tendenci - The Open Source AMS for Associations//Tendenci Codeba
 se MIMEDIR//EN
BEGIN:VEVENT
DESCRIPTION:--- This iCal file does *NOT* confirm registration.\nEvent det
 ails subject to change. ---\nhttps://www.avantgardenhouston.com/events/355
 /\n\nEvent Title: 60's and 70's party with Djs and Live Music\nStart Date 
 / Time: Jun 08, 2012 20:30 PM US/Central\nLocation: AvantGarden 8pm till 2
 am\nFistful of Soul and Brexton (Prince Cobra) with Space Villains live.\n
 \n--- This iCal file does *NOT* confirm registration.Event details subject
  to change. ---\n\n--- By Tendenci - The Open Source AMS for Associations 
 ---\n
UID:uid355@avantgardenhouston.com
SUMMARY:60's and 70's party with Djs and Live Music
DTSTART:20120609T013000Z
DTEND:20120609T013000Z
CLASS:PUBLIC
PRIORITY:5
DTSTAMP:20260420T011145Z
TRANSP:OPAQUE
SEQUENCE:0
LOCATION:AvantGarden 8pm till 2am
X-ALT-DESC;FMTTYPE=text/html:<div>--- This iCal file does *NOT* confirm re
 gistration.Event details subject to change. ---</div><h1>Event Title: 60's
  and 70's party with Djs and Live Music</h1><div>https://www.avantgardenho
 uston.com/events/355/</div><br /><div>When: Jun 08, 2012 20:30 PM US/Centr
 al</div><br /><div><p><span>Fistful of Soul and Brexton (Prince Cobra) wit
 h Space Villains live.</span></p></div><div>--- This iCal file does *NOT* 
 confirm registration.Event details subject to change. ---</div><div>--- Te
 ndenci&reg\; Software by <a href="https://www.tendenci.com">tendenci.com</
 a> - The Open Source AMS for Associations ---</div>
BEGIN:VALARM
TRIGGER:-PT30M
ACTION:DISPLAY
DESCRIPTION:Reminder
END:VALARM
END:VEVENT
END:VCALENDAR
