BEGIN:VCALENDAR
VERSION:2.0
METHOD:PUBLISH
PRODID:-//Tendenci - The Open Source AMS for Associations//Tendenci Codeba
 se MIMEDIR//EN
BEGIN:VEVENT
DESCRIPTION:--- This iCal file does *NOT* confirm registration.\nEvent det
 ails subject to change. ---\nhttps://www.avantgardenhouston.com/events/356
 /\n\nEvent Title:  Disfrutalo!, Cosmic Bug Loaf, Zoofeelia & live painting
  by Mike Pee & Valerie Ann Ramirez\nStart Date / Time: Jun 07, 2012 21:00 
 PM US/Central\nLocation: \n\n\n--- This iCal file does *NOT* confirm regis
 tration.Event details subject to change. ---\n\n--- By Tendenci - The Open
  Source AMS for Associations ---\n
UID:uid356@avantgardenhouston.com
SUMMARY: Disfrutalo!, Cosmic Bug Loaf, Zoofeelia & live painting by Mike Pee & Valerie Ann Ramirez
DTSTART:20120608T020000Z
DTEND:20120608T020000Z
CLASS:PUBLIC
PRIORITY:5
DTSTAMP:20260420T011241Z
TRANSP:OPAQUE
SEQUENCE:0
X-ALT-DESC;FMTTYPE=text/html:<div>--- This iCal file does *NOT* confirm re
 gistration.Event details subject to change. ---</div><h1>Event Title:  Dis
 frutalo!, Cosmic Bug Loaf, Zoofeelia & live painting by Mike Pee & Valerie
  Ann Ramirez</h1><div>https://www.avantgardenhouston.com/events/356/</div>
 <br /><div>When: Jun 07, 2012 21:00 PM US/Central</div><br /><div></div><d
 iv>--- This iCal file does *NOT* confirm registration.Event details subjec
 t to change. ---</div><div>--- Tendenci&reg\; Software by <a href="https:/
 /www.tendenci.com">tendenci.com</a> - The Open Source AMS for Associations
  ---</div>
BEGIN:VALARM
TRIGGER:-PT30M
ACTION:DISPLAY
DESCRIPTION:Reminder
END:VALARM
END:VEVENT
END:VCALENDAR
