BEGIN:VCALENDAR
VERSION:2.0
METHOD:PUBLISH
PRODID:-//Tendenci - The Open Source AMS for Associations//Tendenci Codeba
 se MIMEDIR//EN
BEGIN:VEVENT
DESCRIPTION:--- This iCal file does *NOT* confirm registration.\nEvent det
 ails subject to change. ---\nhttps://www.avantgardenhouston.com/events/358
 /\n\nEvent Title: Pride Parade watching and After Party \nStart Date / Tim
 e: Jun 23, 2012 19:30 PM US/Central\nLocation: \nAfter Party DJ line up tb
 a\n\n--- This iCal file does *NOT* confirm registration.Event details subj
 ect to change. ---\n\n--- By Tendenci - The Open Source AMS for Associatio
 ns ---\n
UID:uid358@avantgardenhouston.com
SUMMARY:Pride Parade watching and After Party 
DTSTART:20120624T003000Z
DTEND:20120624T045900Z
CLASS:PUBLIC
PRIORITY:5
DTSTAMP:20260420T011244Z
TRANSP:OPAQUE
SEQUENCE:0
X-ALT-DESC;FMTTYPE=text/html:<div>--- This iCal file does *NOT* confirm re
 gistration.Event details subject to change. ---</div><h1>Event Title: Prid
 e Parade watching and After Party </h1><div>https://www.avantgardenhouston
 .com/events/358/</div><br /><div>When: Jun 23, 2012 19:30 PM US/Central</d
 iv><br /><div><p>After Party DJ line up tba</p></div><div>--- This iCal fi
 le does *NOT* confirm registration.Event details subject to change. ---</d
 iv><div>--- Tendenci&reg\; Software by <a href="https://www.tendenci.com">
 tendenci.com</a> - The Open Source AMS for Associations ---</div>
BEGIN:VALARM
TRIGGER:-PT30M
ACTION:DISPLAY
DESCRIPTION:Reminder
END:VALARM
END:VEVENT
END:VCALENDAR
