BEGIN:VCALENDAR
VERSION:2.0
METHOD:PUBLISH
PRODID:-//Tendenci - The Open Source AMS for Associations//Tendenci Codeba
 se MIMEDIR//EN
BEGIN:VEVENT
DESCRIPTION:--- This iCal file does *NOT* confirm registration.\nEvent det
 ails subject to change. ---\nhttps://www.avantgardenhouston.com/events/359
 /\n\nEvent Title: OPEN DANCE PARTY\nStart Date / Time: Jun 30, 2012 21:00 
 PM US/Central\nLocation: AvantGarden 9pm till 2am\nEveryone is welcome to 
 dance!\nDj's upstairs and downstairs, no cover charge! \n21+ only please\n
 \n--- This iCal file does *NOT* confirm registration.Event details subject
  to change. ---\n\n--- By Tendenci - The Open Source AMS for Associations 
 ---\n
UID:uid359@avantgardenhouston.com
SUMMARY:OPEN DANCE PARTY
DTSTART:20120701T020000Z
DTEND:20120701T020000Z
CLASS:PUBLIC
PRIORITY:5
DTSTAMP:20260420T025919Z
TRANSP:OPAQUE
SEQUENCE:0
LOCATION:AvantGarden 9pm till 2am
X-ALT-DESC;FMTTYPE=text/html:<div>--- This iCal file does *NOT* confirm re
 gistration.Event details subject to change. ---</div><h1>Event Title: OPEN
  DANCE PARTY</h1><div>https://www.avantgardenhouston.com/events/359/</div>
 <br /><div>When: Jun 30, 2012 21:00 PM US/Central</div><br /><div><p>Every
 one is welcome to dance!</p> <p>Dj's upstairs and downstairs, no cover cha
 rge!&nbsp\;</p> <p>21+ only please</p></div><div>--- This iCal file does *
 NOT* confirm registration.Event details subject to change. ---</div><div>-
 -- Tendenci&reg\; Software by <a href="https://www.tendenci.com">tendenci.
 com</a> - The Open Source AMS for Associations ---</div>
BEGIN:VALARM
TRIGGER:-PT30M
ACTION:DISPLAY
DESCRIPTION:Reminder
END:VALARM
END:VEVENT
END:VCALENDAR
