BEGIN:VCALENDAR
VERSION:2.0
METHOD:PUBLISH
PRODID:-//Tendenci - The Open Source AMS for Associations//Tendenci Codeba
 se MIMEDIR//EN
BEGIN:VEVENT
DESCRIPTION:--- This iCal file does *NOT* confirm registration.\nEvent det
 ails subject to change. ---\nhttps://www.avantgardenhouston.com/events/369
 /\n\nEvent Title: Kendall Klay and Arthur Yoria\nStart Date / Time: Jun 24
 , 2012 21:00 PM US/Central\nLocation: \n\n\n--- This iCal file does *NOT* 
 confirm registration.Event details subject to change. ---\n\n--- By Tenden
 ci - The Open Source AMS for Associations ---\n
UID:uid369@avantgardenhouston.com
SUMMARY:Kendall Klay and Arthur Yoria
DTSTART:20120625T020000Z
DTEND:20120625T045900Z
CLASS:PUBLIC
PRIORITY:5
DTSTAMP:20260420T025640Z
TRANSP:OPAQUE
SEQUENCE:0
X-ALT-DESC;FMTTYPE=text/html:<div>--- This iCal file does *NOT* confirm re
 gistration.Event details subject to change. ---</div><h1>Event Title: Kend
 all Klay and Arthur Yoria</h1><div>https://www.avantgardenhouston.com/even
 ts/369/</div><br /><div>When: Jun 24, 2012 21:00 PM US/Central</div><br />
 <div></div><div>--- This iCal file does *NOT* confirm registration.Event d
 etails subject to change. ---</div><div>--- Tendenci&reg\; Software by <a 
 href="https://www.tendenci.com">tendenci.com</a> - The Open Source AMS for
  Associations ---</div>
BEGIN:VALARM
TRIGGER:-PT30M
ACTION:DISPLAY
DESCRIPTION:Reminder
END:VALARM
END:VEVENT
END:VCALENDAR
