BEGIN:VCALENDAR
VERSION:2.0
METHOD:PUBLISH
PRODID:-//Tendenci - The Open Source AMS for Associations//Tendenci Codeba
 se MIMEDIR//EN
BEGIN:VEVENT
DESCRIPTION:--- This iCal file does *NOT* confirm registration.\nEvent det
 ails subject to change. ---\nhttps://www.avantgardenhouston.com/events/389
 /\n\nEvent Title: La Migra and The Wolves\nStart Date / Time: Jul 06, 2012
  22:00 PM US/Central\nLocation: AG Downstairs. Spanish rock bands 10PM til
 l 2AM\n\n\n--- This iCal file does *NOT* confirm registration.Event detail
 s subject to change. ---\n\n--- By Tendenci - The Open Source AMS for Asso
 ciations ---\n
UID:uid389@avantgardenhouston.com
SUMMARY:La Migra and The Wolves
DTSTART:20120707T030000Z
DTEND:20120707T030000Z
CLASS:PUBLIC
PRIORITY:5
DTSTAMP:20260420T025844Z
TRANSP:OPAQUE
SEQUENCE:0
LOCATION:AG Downstairs. Spanish rock bands 10PM till 2AM
X-ALT-DESC;FMTTYPE=text/html:<div>--- This iCal file does *NOT* confirm re
 gistration.Event details subject to change. ---</div><h1>Event Title: La M
 igra and The Wolves</h1><div>https://www.avantgardenhouston.com/events/389
 /</div><br /><div>When: Jul 06, 2012 22:00 PM US/Central</div><br /><div><
 /div><div>--- This iCal file does *NOT* confirm registration.Event details
  subject to change. ---</div><div>--- Tendenci&reg\; Software by <a href="
 https://www.tendenci.com">tendenci.com</a> - The Open Source AMS for Assoc
 iations ---</div>
BEGIN:VALARM
TRIGGER:-PT30M
ACTION:DISPLAY
DESCRIPTION:Reminder
END:VALARM
END:VEVENT
END:VCALENDAR
