BEGIN:VCALENDAR
VERSION:2.0
METHOD:PUBLISH
PRODID:-//Tendenci - The Open Source AMS for Associations//Tendenci Codeba
 se MIMEDIR//EN
BEGIN:VEVENT
DESCRIPTION:--- This iCal file does *NOT* confirm registration.\nEvent det
 ails subject to change. ---\nhttps://www.avantgardenhouston.com/events/390
 /\n\nEvent Title: Wedding, Private event till midnight.\nStart Date / Time
 : Jul 07, 2012 15:45 PM US/Central\nLocation: \n\n\n--- This iCal file doe
 s *NOT* confirm registration.Event details subject to change. ---\n\n--- B
 y Tendenci - The Open Source AMS for Associations ---\n
UID:uid390@avantgardenhouston.com
SUMMARY:Wedding, Private event till midnight.
DTSTART:20120707T204500Z
DTEND:20120708T043000Z
CLASS:PUBLIC
PRIORITY:5
DTSTAMP:20260420T025923Z
TRANSP:OPAQUE
SEQUENCE:0
X-ALT-DESC;FMTTYPE=text/html:<div>--- This iCal file does *NOT* confirm re
 gistration.Event details subject to change. ---</div><h1>Event Title: Wedd
 ing, Private event till midnight.</h1><div>https://www.avantgardenhouston.
 com/events/390/</div><br /><div>When: Jul 07, 2012 15:45 PM US/Central</di
 v><br /><div></div><div>--- This iCal file does *NOT* confirm registration
 .Event details subject to change. ---</div><div>--- Tendenci&reg\; Softwar
 e by <a href="https://www.tendenci.com">tendenci.com</a> - The Open Source
  AMS for Associations ---</div>
BEGIN:VALARM
TRIGGER:-PT30M
ACTION:DISPLAY
DESCRIPTION:Reminder
END:VALARM
END:VEVENT
END:VCALENDAR
