BEGIN:VCALENDAR
VERSION:2.0
METHOD:PUBLISH
PRODID:-//Tendenci - The Open Source AMS for Associations//Tendenci Codeba
 se MIMEDIR//EN
BEGIN:VEVENT
DESCRIPTION:--- This iCal file does *NOT* confirm registration.\nEvent det
 ails subject to change. ---\nhttps://www.avantgardenhouston.com/events/391
 /\n\nEvent Title: Fundraiser for Mollie Olgin and Kristene Chapa\nStart Da
 te / Time: Jul 08, 2012 17:00 PM US/Central\nLocation: AvantGarden 5pm til
 l 2am\n\n\n\nMusicians:MITCHELL SANCHEZ BAND 5:00-6:00 (inside)PAIGE LEWIS
  5:30-6:30NINA LOMBARDO 6:30-7:15ELECT TRICK CITY 8:00-9:00JESSE ROACH 9:1
 5-9:45Emcee:NANCY FORD of OutSmart MagazineEntertainment:CONCRETE ROSE CAB
 ARETDeejays: DJMelleMel 10pm (inside)DJ JFK 6pm-10pm (inside)100% will be 
 donated to the fundhttp://www.gofundme.com/kristeneOne member of a teenage
  lesbian couple is dead and the other is in serious but stable condition a
 fter the pair were found shot in the head in a park outside Corpus Christi
  over the weekend, according to news reports.Nineteen-year-old Mollie Judi
 th Olgin was found dead, and 18-year-old Mary Khristene Chapa was rushed t
 o the hospital, where she underwent emergency surgery and is now stable an
 d able to communicate. Olgin and Chapa had been together for five months.P
 olice believe the shooting happened at about midnight Friday, but they hav
 e no suspects or motive.\n\n\n\n\n--- This iCal file does *NOT* confirm re
 gistration.Event details subject to change. ---\n\n--- By Tendenci - The O
 pen Source AMS for Associations ---\n
UID:uid391@avantgardenhouston.com
SUMMARY:Fundraiser for Mollie Olgin and Kristene Chapa
DTSTART:20120708T220000Z
DTEND:20120708T220000Z
CLASS:PUBLIC
PRIORITY:5
DTSTAMP:20260420T025756Z
TRANSP:OPAQUE
SEQUENCE:0
LOCATION:AvantGarden 5pm till 2am
X-ALT-DESC;FMTTYPE=text/html:<div>--- This iCal file does *NOT* confirm re
 gistration.Event details subject to change. ---</div><h1>Event Title: Fund
 raiser for Mollie Olgin and Kristene Chapa</h1><div>https://www.avantgarde
 nhouston.com/events/391/</div><br /><div>When: Jul 08, 2012 17:00 PM US/Ce
 ntral</div><br /><div><table class="uiGrid mvm" cellspacing="0" cellpaddin
 g="0"> <tbody> <tr> <td class="vTop"><span>Musicians:<br />MITCHELL SANCHE
 Z BAND 5:00-6:00 (inside)<br />PAIGE LEWIS 5:30-6:30<br /><span class="tex
 t_exposed_show">NINA LOMBARDO 6:30-7:15<br />ELECT TRICK CITY 8:00-9:00<br
  />JESSE ROACH 9:15-9:45<br /><br />Emcee:<br />NANCY FORD of OutSmart Mag
 azine<br /><br />Entertainment:<br />CONCRETE ROSE CABARET<br /><br />Deej
 ays:&nbsp\;<br />DJMelleMel 10pm (inside)<br />DJ JFK 6pm-10pm (inside)<br
  /><br /><br />100% will be donated to the fund<br /><br /><a rel="nofollo
 w nofollow" href="http://www.gofundme.com/kristene" target="_blank">http:/
 /www.gofundme.com/kristene</a><br /><br />One member of a teenage lesbian 
 couple is dead and the other is in serious but stable condition after the 
 pair were found shot in the head in a park outside Corpus Christi over the
  weekend, according to news reports.<br /><br />Nineteen-year-old Mollie J
 udith Olgin was found dead, and 18-year-old Mary Khristene Chapa was rushe
 d to the hospital, where she underwent emergency surgery and is now stable
  and able to communicate. Olgin and Chapa had been together for five month
 s.<br /><br />Police believe the shooting happened at about midnight Frida
 y, but they have no suspects or motive.<br /><br /></span></span></td> </t
 r> </tbody> </table></div><div>--- This iCal file does *NOT* confirm regis
 tration.Event details subject to change. ---</div><div>--- Tendenci&reg\; 
 Software by <a href="https://www.tendenci.com">tendenci.com</a> - The Open
  Source AMS for Associations ---</div>
BEGIN:VALARM
TRIGGER:-PT30M
ACTION:DISPLAY
DESCRIPTION:Reminder
END:VALARM
END:VEVENT
END:VCALENDAR
