BEGIN:VCALENDAR
VERSION:2.0
METHOD:PUBLISH
PRODID:-//Tendenci - The Open Source AMS for Associations//Tendenci Codeba
 se MIMEDIR//EN
BEGIN:VEVENT
DESCRIPTION:--- This iCal file does *NOT* confirm registration.\nEvent det
 ails subject to change. ---\nhttps://www.avantgardenhouston.com/events/4/\
 n\nEvent Title: HSPVA Alumni Reunion\nStart Date / Time: Oct 29, 2011 20:0
 0 PM US/Central\nLocation: \nPrivate event\n\n--- This iCal file does *NOT
 * confirm registration.Event details subject to change. ---\n\n--- By Tend
 enci - The Open Source AMS for Associations ---\n
UID:uid4@avantgardenhouston.com
SUMMARY:HSPVA Alumni Reunion
DTSTART:20111030T010000Z
DTEND:20111030T045900Z
CLASS:PUBLIC
PRIORITY:5
DTSTAMP:20260419T145656Z
TRANSP:OPAQUE
SEQUENCE:0
X-ALT-DESC;FMTTYPE=text/html:<div>--- This iCal file does *NOT* confirm re
 gistration.Event details subject to change. ---</div><h1>Event Title: HSPV
 A Alumni Reunion</h1><div>https://www.avantgardenhouston.com/events/4/</di
 v><br /><div>When: Oct 29, 2011 20:00 PM US/Central</div><br /><div><p>Pri
 vate event</p></div><div>--- This iCal file does *NOT* confirm registratio
 n.Event details subject to change. ---</div><div>--- Tendenci&reg\; Softwa
 re by <a href="https://www.tendenci.com">tendenci.com</a> - The Open Sourc
 e AMS for Associations ---</div>
BEGIN:VALARM
TRIGGER:-PT30M
ACTION:DISPLAY
DESCRIPTION:Reminder
END:VALARM
END:VEVENT
END:VCALENDAR
