BEGIN:VCALENDAR
VERSION:2.0
METHOD:PUBLISH
PRODID:-//Tendenci - The Open Source AMS for Associations//Tendenci Codeba
 se MIMEDIR//EN
BEGIN:VEVENT
DESCRIPTION:--- This iCal file does *NOT* confirm registration.\nEvent det
 ails subject to change. ---\nhttps://www.avantgardenhouston.com/events/401
 /\n\nEvent Title: Wedding, Private event till midnight.\nStart Date / Time
 : Aug 04, 2012 12:30 PM US/Central\nLocation: \n\n\n--- This iCal file doe
 s *NOT* confirm registration.Event details subject to change. ---\n\n--- B
 y Tendenci - The Open Source AMS for Associations ---\n
UID:uid401@avantgardenhouston.com
SUMMARY:Wedding, Private event till midnight.
DTSTART:20120804T173000Z
DTEND:20120805T045900Z
CLASS:PUBLIC
PRIORITY:5
DTSTAMP:20260420T043431Z
TRANSP:OPAQUE
SEQUENCE:0
X-ALT-DESC;FMTTYPE=text/html:<div>--- This iCal file does *NOT* confirm re
 gistration.Event details subject to change. ---</div><h1>Event Title: Wedd
 ing, Private event till midnight.</h1><div>https://www.avantgardenhouston.
 com/events/401/</div><br /><div>When: Aug 04, 2012 12:30 PM US/Central</di
 v><br /><div></div><div>--- This iCal file does *NOT* confirm registration
 .Event details subject to change. ---</div><div>--- Tendenci&reg\; Softwar
 e by <a href="https://www.tendenci.com">tendenci.com</a> - The Open Source
  AMS for Associations ---</div>
BEGIN:VALARM
TRIGGER:-PT30M
ACTION:DISPLAY
DESCRIPTION:Reminder
END:VALARM
END:VEVENT
END:VCALENDAR
