BEGIN:VCALENDAR
VERSION:2.0
METHOD:PUBLISH
PRODID:-//Tendenci - The Open Source AMS for Associations//Tendenci Codeba
 se MIMEDIR//EN
BEGIN:VEVENT
DESCRIPTION:--- This iCal file does *NOT* confirm registration.\nEvent det
 ails subject to change. ---\nhttps://www.avantgardenhouston.com/events/410
 /\n\nEvent Title: Solid Gold Saturday\nStart Date / Time: Jul 21, 2012 21:
 00 PM US/Central\nLocation: \n\nDj Comp 1, playing the best in Funk, Soul,
  and Old School Hip Hop! \nFree Entry and Great Drink Specials..\n\n\n--- 
 This iCal file does *NOT* confirm registration.Event details subject to ch
 ange. ---\n\n--- By Tendenci - The Open Source AMS for Associations ---\n
UID:uid410@avantgardenhouston.com
SUMMARY:Solid Gold Saturday
DTSTART:20120722T020000Z
DTEND:20120722T020000Z
CLASS:PUBLIC
PRIORITY:5
DTSTAMP:20260420T025750Z
TRANSP:OPAQUE
SEQUENCE:0
X-ALT-DESC;FMTTYPE=text/html:<div>--- This iCal file does *NOT* confirm re
 gistration.Event details subject to change. ---</div><h1>Event Title: Soli
 d Gold Saturday</h1><div>https://www.avantgardenhouston.com/events/410/</d
 iv><br /><div>When: Jul 21, 2012 21:00 PM US/Central</div><br /><div> Dj C
 omp 1, playing the best in Funk, Soul, and Old School Hip Hop!  Free Entry
  and Great Drink Specials.. </div><div>--- This iCal file does *NOT* confi
 rm registration.Event details subject to change. ---</div><div>--- Tendenc
 i&reg\; Software by <a href="https://www.tendenci.com">tendenci.com</a> - 
 The Open Source AMS for Associations ---</div>
BEGIN:VALARM
TRIGGER:-PT30M
ACTION:DISPLAY
DESCRIPTION:Reminder
END:VALARM
END:VEVENT
END:VCALENDAR
