BEGIN:VCALENDAR
VERSION:2.0
METHOD:PUBLISH
PRODID:-//Tendenci - The Open Source AMS for Associations//Tendenci Codeba
 se MIMEDIR//EN
BEGIN:VEVENT
DESCRIPTION:--- This iCal file does *NOT* confirm registration.\nEvent det
 ails subject to change. ---\nhttps://www.avantgardenhouston.com/events/411
 /\n\nEvent Title: Craft Market, brunch, live music and deejay after party!
 \nStart Date / Time: Aug 05, 2012 14:00 PM US/Central\nLocation: \n\n\n---
  This iCal file does *NOT* confirm registration.Event details subject to c
 hange. ---\n\n--- By Tendenci - The Open Source AMS for Associations ---\n
UID:uid411@avantgardenhouston.com
SUMMARY:Craft Market, brunch, live music and deejay after party!
DTSTART:20120805T190000Z
DTEND:20120806T030000Z
CLASS:PUBLIC
PRIORITY:5
DTSTAMP:20260420T043605Z
TRANSP:OPAQUE
SEQUENCE:0
X-ALT-DESC;FMTTYPE=text/html:<div>--- This iCal file does *NOT* confirm re
 gistration.Event details subject to change. ---</div><h1>Event Title: Craf
 t Market, brunch, live music and deejay after party!</h1><div>https://www.
 avantgardenhouston.com/events/411/</div><br /><div>When: Aug 05, 2012 14:0
 0 PM US/Central</div><br /><div></div><div>--- This iCal file does *NOT* c
 onfirm registration.Event details subject to change. ---</div><div>--- Ten
 denci&reg\; Software by <a href="https://www.tendenci.com">tendenci.com</a
 > - The Open Source AMS for Associations ---</div>
BEGIN:VALARM
TRIGGER:-PT30M
ACTION:DISPLAY
DESCRIPTION:Reminder
END:VALARM
END:VEVENT
END:VCALENDAR
