BEGIN:VCALENDAR
VERSION:2.0
METHOD:PUBLISH
PRODID:-//Tendenci - The Open Source AMS for Associations//Tendenci Codeba
 se MIMEDIR//EN
BEGIN:VEVENT
DESCRIPTION:--- This iCal file does *NOT* confirm registration.\nEvent det
 ails subject to change. ---\nhttps://www.avantgardenhouston.com/events/411
 1/\n\nEvent Title: CLOSED TO THE PUBLIC\nStart Date / Time: Feb 11, 2022 0
 0:00 AM US/Central\nLocation: \nWE ARE CLOSED TO THE PUBLIC TONIGHT.\nNO J
 AZZ\n NO BURLESQUE \nCOME BACK MONDAY and tuesday for our valentine's week
  specials!! \nSORRY FOR THE INCONVENIENCE!!\n\n--- This iCal file does *NO
 T* confirm registration.Event details subject to change. ---\n\n--- By Ten
 denci - The Open Source AMS for Associations ---\n
UID:uid4111@avantgardenhouston.com
SUMMARY:CLOSED TO THE PUBLIC
DTSTART:20220211T060000Z
DTEND:20220212T055959Z
CLASS:PUBLIC
PRIORITY:5
DTSTAMP:20260420T043441Z
TRANSP:OPAQUE
SEQUENCE:0
X-ALT-DESC;FMTTYPE=text/html:<div>--- This iCal file does *NOT* confirm re
 gistration.Event details subject to change. ---</div><h1>Event Title: CLOS
 ED TO THE PUBLIC</h1><div>https://www.avantgardenhouston.com/events/4111/<
 /div><br /><div>When: Feb 11, 2022 00:00 AM US/Central</div><br /><div><p>
 WE ARE CLOSED TO THE PUBLIC TONIGHT.</p> <p>NO JAZZ</p> <p>&nbsp\;NO BURLE
 SQUE&nbsp\;</p> <p>COME BACK MONDAY and tuesday for our valentine's week s
 pecials!!&nbsp\;</p> <p>SORRY FOR THE INCONVENIENCE!!</p></div><div>--- Th
 is iCal file does *NOT* confirm registration.Event details subject to chan
 ge. ---</div><div>--- Tendenci&reg\; Software by <a href="https://www.tend
 enci.com">tendenci.com</a> - The Open Source AMS for Associations ---</div
 >
BEGIN:VALARM
TRIGGER:-PT30M
ACTION:DISPLAY
DESCRIPTION:Reminder
END:VALARM
END:VEVENT
END:VCALENDAR
