BEGIN:VCALENDAR
VERSION:2.0
METHOD:PUBLISH
PRODID:-//Tendenci - The Open Source AMS for Associations//Tendenci Codeba
 se MIMEDIR//EN
BEGIN:VEVENT
DESCRIPTION:--- This iCal file does *NOT* confirm registration.\nEvent det
 ails subject to change. ---\nhttps://www.avantgardenhouston.com/events/42/
 \n\nEvent Title: wedding\nStart Date / Time: Nov 12, 2011 15:45 PM US/Cent
 ral\nLocation: \nprivate reception. invitations only.\ncome back Thursday 
 for costumer appreciation night, $1 wells all night\n\n--- This iCal file 
 does *NOT* confirm registration.Event details subject to change. ---\n\n--
 - By Tendenci - The Open Source AMS for Associations ---\n
UID:uid42@avantgardenhouston.com
SUMMARY:wedding
DTSTART:20111112T214500Z
DTEND:20111113T055900Z
CLASS:PUBLIC
PRIORITY:5
DTSTAMP:20260419T145832Z
TRANSP:OPAQUE
SEQUENCE:0
X-ALT-DESC;FMTTYPE=text/html:<div>--- This iCal file does *NOT* confirm re
 gistration.Event details subject to change. ---</div><h1>Event Title: wedd
 ing</h1><div>https://www.avantgardenhouston.com/events/42/</div><br /><div
 >When: Nov 12, 2011 15:45 PM US/Central</div><br /><div><p>private recepti
 on. invitations only.</p> <p>come back Thursday for costumer appreciation 
 night, $1 wells all night</p></div><div>--- This iCal file does *NOT* conf
 irm registration.Event details subject to change. ---</div><div>--- Tenden
 ci&reg\; Software by <a href="https://www.tendenci.com">tendenci.com</a> -
  The Open Source AMS for Associations ---</div>
BEGIN:VALARM
TRIGGER:-PT30M
ACTION:DISPLAY
DESCRIPTION:Reminder
END:VALARM
END:VEVENT
END:VCALENDAR
