BEGIN:VCALENDAR
VERSION:2.0
METHOD:PUBLISH
PRODID:-//Tendenci - The Open Source AMS for Associations//Tendenci Codeba
 se MIMEDIR//EN
BEGIN:VEVENT
DESCRIPTION:--- This iCal file does *NOT* confirm registration.\nEvent det
 ails subject to change. ---\nhttps://www.avantgardenhouston.com/events/422
 /\n\nEvent Title: Wedding till 12AM. Private event\nStart Date / Time: Aug
  11, 2012 13:00 PM US/Central\nLocation: \n\n\n--- This iCal file does *NO
 T* confirm registration.Event details subject to change. ---\n\n--- By Ten
 denci - The Open Source AMS for Associations ---\n
UID:uid422@avantgardenhouston.com
SUMMARY:Wedding till 12AM. Private event
DTSTART:20120811T180000Z
DTEND:20120812T045900Z
CLASS:PUBLIC
PRIORITY:5
DTSTAMP:20260420T043601Z
TRANSP:OPAQUE
SEQUENCE:0
X-ALT-DESC;FMTTYPE=text/html:<div>--- This iCal file does *NOT* confirm re
 gistration.Event details subject to change. ---</div><h1>Event Title: Wedd
 ing till 12AM. Private event</h1><div>https://www.avantgardenhouston.com/e
 vents/422/</div><br /><div>When: Aug 11, 2012 13:00 PM US/Central</div><br
  /><div></div><div>--- This iCal file does *NOT* confirm registration.Even
 t details subject to change. ---</div><div>--- Tendenci&reg\; Software by 
 <a href="https://www.tendenci.com">tendenci.com</a> - The Open Source AMS 
 for Associations ---</div>
BEGIN:VALARM
TRIGGER:-PT30M
ACTION:DISPLAY
DESCRIPTION:Reminder
END:VALARM
END:VEVENT
END:VCALENDAR
