BEGIN:VCALENDAR
VERSION:2.0
METHOD:PUBLISH
PRODID:-//Tendenci - The Open Source AMS for Associations//Tendenci Codeba
 se MIMEDIR//EN
BEGIN:VEVENT
DESCRIPTION:--- This iCal file does *NOT* confirm registration.\nEvent det
 ails subject to change. ---\nhttps://www.avantgardenhouston.com/events/426
 /\n\nEvent Title: Wedding. Private event until 12am\nStart Date / Time: Au
 g 25, 2012 16:00 PM US/Central\nLocation: \n\n\n--- This iCal file does *N
 OT* confirm registration.Event details subject to change. ---\n\n--- By Te
 ndenci - The Open Source AMS for Associations ---\n
UID:uid426@avantgardenhouston.com
SUMMARY:Wedding. Private event until 12am
DTSTART:20120825T210000Z
DTEND:20120826T045900Z
CLASS:PUBLIC
PRIORITY:5
DTSTAMP:20260420T043331Z
TRANSP:OPAQUE
SEQUENCE:0
X-ALT-DESC;FMTTYPE=text/html:<div>--- This iCal file does *NOT* confirm re
 gistration.Event details subject to change. ---</div><h1>Event Title: Wedd
 ing. Private event until 12am</h1><div>https://www.avantgardenhouston.com/
 events/426/</div><br /><div>When: Aug 25, 2012 16:00 PM US/Central</div><b
 r /><div></div><div>--- This iCal file does *NOT* confirm registration.Eve
 nt details subject to change. ---</div><div>--- Tendenci&reg\; Software by
  <a href="https://www.tendenci.com">tendenci.com</a> - The Open Source AMS
  for Associations ---</div>
BEGIN:VALARM
TRIGGER:-PT30M
ACTION:DISPLAY
DESCRIPTION:Reminder
END:VALARM
END:VEVENT
END:VCALENDAR
