BEGIN:VCALENDAR
VERSION:2.0
METHOD:PUBLISH
PRODID:-//Tendenci - The Open Source AMS for Associations//Tendenci Codeba
 se MIMEDIR//EN
BEGIN:VEVENT
DESCRIPTION:--- This iCal file does *NOT* confirm registration.\nEvent det
 ails subject to change. ---\nhttps://www.avantgardenhouston.com/events/427
 5/\n\nEvent Title: Jazz on the patio\nStart Date / Time: Apr 29, 2022 21:3
 0 PM US/Central\nLocation: \n\n\n--- This iCal file does *NOT* confirm reg
 istration.Event details subject to change. ---\n\n--- By Tendenci - The Op
 en Source AMS for Associations ---\n
UID:uid4275@avantgardenhouston.com
SUMMARY:Jazz on the patio
DTSTART:20220430T023000Z
DTEND:20220430T045900Z
CLASS:PUBLIC
PRIORITY:5
DTSTAMP:20260420T043723Z
TRANSP:OPAQUE
SEQUENCE:0
X-ALT-DESC;FMTTYPE=text/html:<div>--- This iCal file does *NOT* confirm re
 gistration.Event details subject to change. ---</div><h1>Event Title: Jazz
  on the patio</h1><div>https://www.avantgardenhouston.com/events/4275/</di
 v><br /><div>When: Apr 29, 2022 21:30 PM US/Central</div><br /><div><p sty
 le="text-align: center\;"><iframe allowfullscreen="allowfullscreen" height
 ="314" src="//www.youtube.com/embed/mBYEsQUK9w4" width="560" data-mce-frag
 ment="1"></iframe></p></div><div>--- This iCal file does *NOT* confirm reg
 istration.Event details subject to change. ---</div><div>--- Tendenci&reg\
 ; Software by <a href="https://www.tendenci.com">tendenci.com</a> - The Op
 en Source AMS for Associations ---</div>
BEGIN:VALARM
TRIGGER:-PT30M
ACTION:DISPLAY
DESCRIPTION:Reminder
END:VALARM
END:VEVENT
END:VCALENDAR
