BEGIN:VCALENDAR
VERSION:2.0
METHOD:PUBLISH
PRODID:-//Tendenci - The Open Source AMS for Associations//Tendenci Codeba
 se MIMEDIR//EN
BEGIN:VEVENT
DESCRIPTION:--- This iCal file does *NOT* confirm registration.\nEvent det
 ails subject to change. ---\nhttps://www.avantgardenhouston.com/events/453
 /\n\nEvent Title: Hank Schyma and Jerry Ochoa\nStart Date / Time: Sep 20, 
 2012 21:30 PM US/Central\nLocation: AvantGarden Downstairs lounge\n\n\n---
  This iCal file does *NOT* confirm registration.Event details subject to c
 hange. ---\n\n--- By Tendenci - The Open Source AMS for Associations ---\n
UID:uid453@avantgardenhouston.com
SUMMARY:Hank Schyma and Jerry Ochoa
DTSTART:20120921T023000Z
DTEND:20120921T045900Z
CLASS:PUBLIC
PRIORITY:5
DTSTAMP:20260420T063053Z
TRANSP:OPAQUE
SEQUENCE:0
LOCATION:AvantGarden Downstairs lounge
X-ALT-DESC;FMTTYPE=text/html:<div>--- This iCal file does *NOT* confirm re
 gistration.Event details subject to change. ---</div><h1>Event Title: Hank
  Schyma and Jerry Ochoa</h1><div>https://www.avantgardenhouston.com/events
 /453/</div><br /><div>When: Sep 20, 2012 21:30 PM US/Central</div><br /><d
 iv></div><div>--- This iCal file does *NOT* confirm registration.Event det
 ails subject to change. ---</div><div>--- Tendenci&reg\; Software by <a hr
 ef="https://www.tendenci.com">tendenci.com</a> - The Open Source AMS for A
 ssociations ---</div>
BEGIN:VALARM
TRIGGER:-PT30M
ACTION:DISPLAY
DESCRIPTION:Reminder
END:VALARM
END:VEVENT
END:VCALENDAR
