BEGIN:VCALENDAR
VERSION:2.0
METHOD:PUBLISH
PRODID:-//Tendenci - The Open Source AMS for Associations//Tendenci Codeba
 se MIMEDIR//EN
BEGIN:VEVENT
DESCRIPTION:--- This iCal file does *NOT* confirm registration.\nEvent det
 ails subject to change. ---\nhttps://www.avantgardenhouston.com/events/479
 /\n\nEvent Title: Private Party, sorry, come back tomorrow :)\nStart Date 
 / Time: Oct 13, 2012 11:51 AM US/Central\nLocation: Wedding reception\n\n\
 n--- This iCal file does *NOT* confirm registration.Event details subject 
 to change. ---\n\n--- By Tendenci - The Open Source AMS for Associations -
 --\n
UID:uid479@avantgardenhouston.com
SUMMARY:Private Party, sorry, come back tomorrow :)
DTSTART:20121013T165100Z
DTEND:20121014T043000Z
CLASS:PUBLIC
PRIORITY:5
DTSTAMP:20260420T063121Z
TRANSP:OPAQUE
SEQUENCE:0
LOCATION:Wedding reception
X-ALT-DESC;FMTTYPE=text/html:<div>--- This iCal file does *NOT* confirm re
 gistration.Event details subject to change. ---</div><h1>Event Title: Priv
 ate Party, sorry, come back tomorrow :)</h1><div>https://www.avantgardenho
 uston.com/events/479/</div><br /><div>When: Oct 13, 2012 11:51 AM US/Centr
 al</div><br /><div></div><div>--- This iCal file does *NOT* confirm regist
 ration.Event details subject to change. ---</div><div>--- Tendenci&reg\; S
 oftware by <a href="https://www.tendenci.com">tendenci.com</a> - The Open 
 Source AMS for Associations ---</div>
BEGIN:VALARM
TRIGGER:-PT30M
ACTION:DISPLAY
DESCRIPTION:Reminder
END:VALARM
END:VEVENT
END:VCALENDAR
