BEGIN:VCALENDAR
VERSION:2.0
METHOD:PUBLISH
PRODID:-//Tendenci - The Open Source AMS for Associations//Tendenci Codeba
 se MIMEDIR//EN
BEGIN:VEVENT
DESCRIPTION:--- This iCal file does *NOT* confirm registration.\nEvent det
 ails subject to change. ---\nhttps://www.avantgardenhouston.com/events/487
 /\n\nEvent Title: Private event till 9pm\nStart Date / Time: Oct 27, 2012 
 11:00 AM US/Central\nLocation: AvantGarden downstairs lounge 9.45pm till 2
 am\n\n\n--- This iCal file does *NOT* confirm registration.Event details s
 ubject to change. ---\n\n--- By Tendenci - The Open Source AMS for Associa
 tions ---\n
UID:uid487@avantgardenhouston.com
SUMMARY:Private event till 9pm
DTSTART:20121027T160000Z
DTEND:20121028T023000Z
CLASS:PUBLIC
PRIORITY:5
DTSTAMP:20260420T081210Z
TRANSP:OPAQUE
SEQUENCE:0
LOCATION:AvantGarden downstairs lounge 9.45pm till 2am
X-ALT-DESC;FMTTYPE=text/html:<div>--- This iCal file does *NOT* confirm re
 gistration.Event details subject to change. ---</div><h1>Event Title: Priv
 ate event till 9pm</h1><div>https://www.avantgardenhouston.com/events/487/
 </div><br /><div>When: Oct 27, 2012 11:00 AM US/Central</div><br /><div></
 div><div>--- This iCal file does *NOT* confirm registration.Event details 
 subject to change. ---</div><div>--- Tendenci&reg\; Software by <a href="h
 ttps://www.tendenci.com">tendenci.com</a> - The Open Source AMS for Associ
 ations ---</div>
BEGIN:VALARM
TRIGGER:-PT30M
ACTION:DISPLAY
DESCRIPTION:Reminder
END:VALARM
END:VEVENT
END:VCALENDAR
