BEGIN:VCALENDAR
VERSION:2.0
METHOD:PUBLISH
PRODID:-//Tendenci - The Open Source AMS for Associations//Tendenci Codeba
 se MIMEDIR//EN
BEGIN:VEVENT
DESCRIPTION:--- This iCal file does *NOT* confirm registration.\nEvent det
 ails subject to change. ---\nhttps://www.avantgardenhouston.com/events/5/\
 n\nEvent Title: Dr Sketchy, The Anti-Art Class\nStart Date / Time: Oct 09,
  2011 14:00 PM US/Central\nLocation: upstairs room\n\n\n--- This iCal file
  does *NOT* confirm registration.Event details subject to change. ---\n\n-
 -- By Tendenci - The Open Source AMS for Associations ---\n
UID:uid5@avantgardenhouston.com
SUMMARY:Dr Sketchy, The Anti-Art Class
DTSTART:20111009T190000Z
DTEND:20111009T215600Z
CLASS:PUBLIC
PRIORITY:5
DTSTAMP:20260419T145654Z
TRANSP:OPAQUE
SEQUENCE:0
LOCATION:upstairs room
X-ALT-DESC;FMTTYPE=text/html:<div>--- This iCal file does *NOT* confirm re
 gistration.Event details subject to change. ---</div><h1>Event Title: Dr S
 ketchy, The Anti-Art Class</h1><div>https://www.avantgardenhouston.com/eve
 nts/5/</div><br /><div>When: Oct 09, 2011 14:00 PM US/Central</div><br /><
 div></div><div>--- This iCal file does *NOT* confirm registration.Event de
 tails subject to change. ---</div><div>--- Tendenci&reg\; Software by <a h
 ref="https://www.tendenci.com">tendenci.com</a> - The Open Source AMS for 
 Associations ---</div>
BEGIN:VALARM
TRIGGER:-PT30M
ACTION:DISPLAY
DESCRIPTION:Reminder
END:VALARM
END:VEVENT
END:VCALENDAR
