BEGIN:VCALENDAR
VERSION:2.0
METHOD:PUBLISH
PRODID:-//Tendenci - The Open Source AMS for Associations//Tendenci Codeba
 se MIMEDIR//EN
BEGIN:VEVENT
DESCRIPTION:--- This iCal file does *NOT* confirm registration.\nEvent det
 ails subject to change. ---\nhttps://www.avantgardenhouston.com/events/511
 /\n\nEvent Title: Wedding till 8PM. Invitations only. Come back later for 
 a night cap \nStart Date / Time: Oct 20, 2012 10:00 AM US/Central\nLocatio
 n: Wedding reception\n\n\n--- This iCal file does *NOT* confirm registrati
 on.Event details subject to change. ---\n\n--- By Tendenci - The Open Sour
 ce AMS for Associations ---\n
UID:uid511@avantgardenhouston.com
SUMMARY:Wedding till 8PM. Invitations only. Come back later for a night cap 
DTSTART:20121020T150000Z
DTEND:20121021T010000Z
CLASS:PUBLIC
PRIORITY:5
DTSTAMP:20260420T081009Z
TRANSP:OPAQUE
SEQUENCE:0
LOCATION:Wedding reception
X-ALT-DESC;FMTTYPE=text/html:<div>--- This iCal file does *NOT* confirm re
 gistration.Event details subject to change. ---</div><h1>Event Title: Wedd
 ing till 8PM. Invitations only. Come back later for a night cap </h1><div>
 https://www.avantgardenhouston.com/events/511/</div><br /><div>When: Oct 2
 0, 2012 10:00 AM US/Central</div><br /><div></div><div>--- This iCal file 
 does *NOT* confirm registration.Event details subject to change. ---</div>
 <div>--- Tendenci&reg\; Software by <a href="https://www.tendenci.com">ten
 denci.com</a> - The Open Source AMS for Associations ---</div>
BEGIN:VALARM
TRIGGER:-PT30M
ACTION:DISPLAY
DESCRIPTION:Reminder
END:VALARM
END:VEVENT
END:VCALENDAR
