BEGIN:VCALENDAR
VERSION:2.0
METHOD:PUBLISH
PRODID:-//Tendenci - The Open Source AMS for Associations//Tendenci Codeba
 se MIMEDIR//EN
BEGIN:VEVENT
DESCRIPTION:--- This iCal file does *NOT* confirm registration.\nEvent det
 ails subject to change. ---\nhttps://www.avantgardenhouston.com/events/514
 /\n\nEvent Title: "Sing Your Life" Acoustic Showcase\nStart Date / Time: O
 ct 27, 2012 21:30 PM Africa/Abidjan\nLocation: \nPerformers TBA\n\n--- Thi
 s iCal file does *NOT* confirm registration.Event details subject to chang
 e. ---\n\n--- By Tendenci - The Open Source AMS for Associations ---\n
UID:uid514@avantgardenhouston.com
SUMMARY:"Sing Your Life" Acoustic Showcase
DTSTART:20121027T213000Z
DTEND:20121027T213000Z
CLASS:PUBLIC
PRIORITY:5
DTSTAMP:20260420T031042Z
TRANSP:OPAQUE
SEQUENCE:0
X-ALT-DESC;FMTTYPE=text/html:<div>--- This iCal file does *NOT* confirm re
 gistration.Event details subject to change. ---</div><h1>Event Title: "Sin
 g Your Life" Acoustic Showcase</h1><div>https://www.avantgardenhouston.com
 /events/514/</div><br /><div>When: Oct 27, 2012 21:30 PM Africa/Abidjan</d
 iv><br /><div><p>Performers TBA</p></div><div>--- This iCal file does *NOT
 * confirm registration.Event details subject to change. ---</div><div>--- 
 Tendenci&reg\; Software by <a href="https://www.tendenci.com">tendenci.com
 </a> - The Open Source AMS for Associations ---</div>
BEGIN:VALARM
TRIGGER:-PT30M
ACTION:DISPLAY
DESCRIPTION:Reminder
END:VALARM
END:VEVENT
END:VCALENDAR
