BEGIN:VCALENDAR
VERSION:2.0
METHOD:PUBLISH
PRODID:-//Tendenci - The Open Source AMS for Associations//Tendenci Codeba
 se MIMEDIR//EN
BEGIN:VEVENT
DESCRIPTION:--- This iCal file does *NOT* confirm registration.\nEvent det
 ails subject to change. ---\nhttps://www.avantgardenhouston.com/events/527
 /\n\nEvent Title: ‘Yours For The Taking’ by Victoria Love. Video Relea
 se Party \nStart Date / Time: Nov 10, 2012 18:00 PM Africa/Abidjan\nLocati
 on: Avant Garden (The same place they shot most of the video)\n&lsquo\;You
 rs For The Taking&rsquo\; by Victoria Love Video Release Party Saturday, N
 ovember 10th6pm-10pmAvant Garden (The same place we shot most of the video
 )411 WestheimerHouston, TX 77006\nMore Details:You are invited to share an
  intimate and very special night with us. This Video is a HUGE deal! I wan
 t to share it with you in the perfect settings. Let&rsquo\;s get together 
 for dinner, a champagne toast, and a viewing. Throw on your good threads a
 nd mingle with the cast and crew in the beautifully decorated back patio a
 t the Avant Garden in Houston, TX. If you pledged to my Indiegogo campaign
 , you have a reserved seat at one of the tables right in front of the BIG 
 screen. This comes with a catered Lebanese Dinner including some of my fav
 orite family recipes. You will be sent an email with details so look out f
 or that.\nAnyone is welcome to attend this party. FREE OF CHARGE! The more
  the merrier! However, If you are interested in joining us for the Dinner 
 and the champagne toast, you may purchase a $10 ticket HERE. You will be g
 uaranteed a chair, but not necessarily one at a table. Tables are limited 
 and reserved for cast, crew, financial supporters, and family. We are stil
 l raising money to pay for the rest of the video, so please consider buyin
 g a ticket or donating any amount at entry.\nI hope to see you ALL there. 
 This video will knock your jaw off. Seriously. Visit my website often in t
 he next couple of weeks for Behind The Scenes Footage and Interesting and 
 Fun Information. (Link: &lsquo\;Behind The Video&lsquo\;)\n\n--- This iCal
  file does *NOT* confirm registration.Event details subject to change. ---
 \n\n--- By Tendenci - The Open Source AMS for Associations ---\n
UID:uid527@avantgardenhouston.com
SUMMARY:‘Yours For The Taking’ by Victoria Love. Video Release Party 
DTSTART:20121110T180000Z
DTEND:20121110T223000Z
CLASS:PUBLIC
PRIORITY:5
DTSTAMP:20260420T031324Z
TRANSP:OPAQUE
SEQUENCE:0
LOCATION:Avant Garden (The same place they shot most of the video)
X-ALT-DESC;FMTTYPE=text/html:<div>--- This iCal file does *NOT* confirm re
 gistration.Event details subject to change. ---</div><h1>Event Title: ‘Y
 ours For The Taking’ by Victoria Love. Video Release Party </h1><div>htt
 ps://www.avantgardenhouston.com/events/527/</div><br /><div>When: Nov 10, 
 2012 18:00 PM Africa/Abidjan</div><br /><div><p>&lsquo\;Yours For The Taki
 ng&rsquo\; by Victoria Love&nbsp\;<br />Video Release Party&nbsp\;<br />Sa
 turday, November 10th<br />6pm-10pm<br />Avant Garden (The same place we s
 hot most of the video)<br />411 Westheimer<br />Houston, TX 77006</p> <p>M
 ore Details:<br />You are invited to share an intimate and very special ni
 ght with us. This Video is a HUGE deal! I want to share it with you in the
  perfect settings. Let&rsquo\;s get together for dinner, a champagne toast
 , and a viewing. Throw on your good threads and mingle with the cast and c
 rew in the beautifully decorated back patio at the Avant Garden in Houston
 , TX. If you pledged to my Indiegogo campaign, you have a reserved seat at
  one of the tables right in front of the BIG screen. This comes with a cat
 ered Lebanese Dinner including some of my favorite family recipes. You wil
 l be sent an email with details so look out for that.</p> <p>Anyone is wel
 come to attend this party. FREE OF CHARGE! The more the merrier! However, 
 If you are interested in joining us for the Dinner and the champagne toast
 , you may purchase a $10 ticket&nbsp\;<a href="https://www.paypal.com/us/c
 gi-bin/webscr?cmd=_flow&amp\;SESSION=9D0IDcXn_OwntbDxd6l6KoatKlvyrufypntLe
 UlNNYVkQggs-9DxuODz5B0&amp\;dispatch=50a222a57771920b6a3d7b606239e4d529b52
 5e0b7e69bf0224adecfb0124e9b61f737ba21b08198c76d66ace6699a60677529753b095fa
 b">HERE</a>.&nbsp\;<br />You will be guaranteed a chair, but not necessari
 ly one at a table. Tables are limited and reserved for cast, crew, financi
 al supporters, and family. We are still raising money to pay for the rest 
 of the video, so please consider buying a ticket or donating any amount at
  entry.</p> <p>I hope to see you ALL there. This video will knock your jaw
  off. Seriously. Visit my website often in the next couple of weeks for Be
 hind The Scenes Footage and Interesting and Fun Information. (Link: &lsquo
 \;<a href="http://www.victorialovemusic.com/behind-the-video/">Behind The 
 Video</a>&lsquo\;)</p></div><div>--- This iCal file does *NOT* confirm reg
 istration.Event details subject to change. ---</div><div>--- Tendenci&reg\
 ; Software by <a href="https://www.tendenci.com">tendenci.com</a> - The Op
 en Source AMS for Associations ---</div>
BEGIN:VALARM
TRIGGER:-PT30M
ACTION:DISPLAY
DESCRIPTION:Reminder
END:VALARM
END:VEVENT
END:VCALENDAR
