BEGIN:VCALENDAR
VERSION:2.0
METHOD:PUBLISH
PRODID:-//Tendenci - The Open Source AMS for Associations//Tendenci Codeba
 se MIMEDIR//EN
BEGIN:VEVENT
DESCRIPTION:--- This iCal file does *NOT* confirm registration.\nEvent det
 ails subject to change. ---\nhttps://www.avantgardenhouston.com/events/529
 /\n\nEvent Title: Caroline collective opening-after party\nStart Date / Ti
 me: Nov 16, 2012 21:45 PM Africa/Abidjan\nLocation: \n\n\n--- This iCal fi
 le does *NOT* confirm registration.Event details subject to change. ---\n\
 n--- By Tendenci - The Open Source AMS for Associations ---\n
UID:uid529@avantgardenhouston.com
SUMMARY:Caroline collective opening-after party
DTSTART:20121116T214500Z
DTEND:20121116T214500Z
CLASS:PUBLIC
PRIORITY:5
DTSTAMP:20260420T044042Z
TRANSP:OPAQUE
SEQUENCE:0
X-ALT-DESC;FMTTYPE=text/html:<div>--- This iCal file does *NOT* confirm re
 gistration.Event details subject to change. ---</div><h1>Event Title: Caro
 line collective opening-after party</h1><div>https://www.avantgardenhousto
 n.com/events/529/</div><br /><div>When: Nov 16, 2012 21:45 PM Africa/Abidj
 an</div><br /><div></div><div>--- This iCal file does *NOT* confirm regist
 ration.Event details subject to change. ---</div><div>--- Tendenci&reg\; S
 oftware by <a href="https://www.tendenci.com">tendenci.com</a> - The Open 
 Source AMS for Associations ---</div>
BEGIN:VALARM
TRIGGER:-PT30M
ACTION:DISPLAY
DESCRIPTION:Reminder
END:VALARM
END:VEVENT
END:VCALENDAR
