BEGIN:VCALENDAR
VERSION:2.0
METHOD:PUBLISH
PRODID:-//Tendenci - The Open Source AMS for Associations//Tendenci Codeba
 se MIMEDIR//EN
BEGIN:VEVENT
DESCRIPTION:--- This iCal file does *NOT* confirm registration.\nEvent det
 ails subject to change. ---\nhttps://www.avantgardenhouston.com/events/530
 /\n\nEvent Title: Continue Live Arts Series\nStart Date / Time: Nov 30, 20
 12 19:00 PM Africa/Abidjan\nLocation: AvantGarden\nContinuum presents a se
 ries of wildly adventurous live art events and workshops for their upcomin
 g residency at AvantGarden.Houston&rsquo\;s performance art group Continuu
 m happily announces their first Artist Residency granted by Houston&rsquo\
 ;s art and entertainment venue, AvantGarden. The members of Continuum will
  host a series of site specific performance art events and workshops for a
  period of six months, from November 2012 to April 2013. The Grand Opening
  Night of Continuum Live Art Series will be held on Friday, November 30th 
 beginning at 7:30 PM and will include cutting edge performance art from Ju
 lia Wallace, Jonatan Lopez, Unna Bettie, Hilary Scullane, Koomah, Evan McC
 arley, Raindawg, Zubi Puente &amp\; Y.E. Torres, Tina McPherson, Black Mag
 ic Marker, Militia &ldquo\;Malice&rdquo\; Tiamat, Jessica Mendez, Chus Mar
 tinez, Jana Whatley and more.  In the past couple of years Houston has wit
 nessed extraordinary growth in its performance art scene. Continuum has be
 en an integral part of this nascent growth, having facilitated an engaging
  series of workshops and performance events at local venues as well as gue
 rrilla style performances around town. With &ldquo\;Continuum Live Art Ser
 ies&rdquo\;, the group will continue encouraging local emerging performanc
 e artists by providing the opportunity to experiment and expand their body
  of work. AvantGarden, a venue that recently took part in organizing and h
 osting  &ldquo\;Lone Star Explosion,&rdquo\; Houston&rsquo\;s first Intern
 ational Performance Art Biennial, is the ideal host for this exciting ende
 avor due to its interest in supporting the medium of performance art.Conti
 nuum Live Art Events will usually occur on the last weekend of each month.
  Workshops will be held on Sunday evenings at AvantGarden&rsquo\;s upstair
 s gallery two weeks prior to each Live Art Event. Workshop participants wi
 ll be able to sharpen their ideas through fun performance exercises and en
 couraging feedback provided by Continuum members. The Grand Opening will i
 nclude over ten local performance artists that will inhabit the venue in a
  unique and provocative way, inviting the audience to become part of the a
 rt itself.Participation is encouraged! If you are interested in performing
  at the monthly events or attending the workshops, please email Continuum 
 at continuumperformanceart@gmail.com.\n\n--- This iCal file does *NOT* con
 firm registration.Event details subject to change. ---\n\n--- By Tendenci 
 - The Open Source AMS for Associations ---\n
UID:uid530@avantgardenhouston.com
SUMMARY:Continue Live Arts Series
DTSTART:20121130T190000Z
DTEND:20121130T230000Z
CLASS:PUBLIC
PRIORITY:5
DTSTAMP:20260420T044239Z
TRANSP:OPAQUE
SEQUENCE:0
LOCATION:AvantGarden
X-ALT-DESC;FMTTYPE=text/html:<div>--- This iCal file does *NOT* confirm re
 gistration.Event details subject to change. ---</div><h1>Event Title: Cont
 inue Live Arts Series</h1><div>https://www.avantgardenhouston.com/events/5
 30/</div><br /><div>When: Nov 30, 2012 19:00 PM Africa/Abidjan</div><br />
 <div><p><strong id="internal-source-marker_0.671298033092171"><strong id="
 internal-source-marker_0.671298033092171">Continuum presents a series of w
 ildly adventurous live art events and workshops for their upcoming residen
 cy at AvantGarden.</strong><br /><br /><span>Houston&rsquo\;s performance 
 art group Continuum happily announces their first Artist Residency granted
  by Houston&rsquo\;s art and entertainment venue, AvantGarden. The members
  of Continuum will host a series of site specific performance art events a
 nd workshops for a period of six months, from November 2012 to April 2013.
  The </span><span>Grand Opening Night of Continuum Live Art Series will be
  held on Friday, November 30th beginning at 7:30 PM</span><span> and will 
 include cutting edge performance art from Julia Wallace, Jonatan Lopez, Un
 na Bettie, Hilary Scullane, Koomah, Evan McCarley, Raindawg, Zubi Puente &
 amp\; Y.E. Torres, Tina McPherson, Black Magic Marker, Militia &ldquo\;Mal
 ice&rdquo\; Tiamat, Jessica Mendez, Chus Martinez, Jana Whatley and more. 
 </span><br /><span> </span><br /><span>In the past couple of years Houston
  has witnessed extraordinary growth in its performance art scene. Continuu
 m has been an integral part of this nascent growth, having facilitated an 
 engaging series of workshops and performance events at local venues as wel
 l as guerrilla style performances around town. With &ldquo\;Continuum Live
  Art Series&rdquo\;, the group will continue encouraging local emerging pe
 rformance artists by providing the opportunity to experiment and expand th
 eir body of work</span><span>. AvantGarden, a venue that recently took par
 t in organizing and hosting &nbsp\;&ldquo\;Lone Star Explosion,&rdquo\; Ho
 uston&rsquo\;s first International Performance Art Biennial, is the ideal 
 host for this exciting endeavor due to its interest in supporting the medi
 um of performance art.</span><br /><br /><span>Continuum Live Art Events w
 ill usually occur on the last weekend of each month.</span><span> </span><
 span>Workshops will be held on Sunday evenings at AvantGarden&rsquo\;s ups
 tairs gallery two weeks prior to each Live Art Event. Workshop participant
 s will be able to sharpen their ideas through fun performance exercises an
 d encouraging feedback provided by Continuum members. The Grand Opening wi
 ll include over ten local performance artists that will inhabit the venue 
 in a unique and provocative way, inviting the audience to become part of t
 he art itself.</span><br /><br /><span>Participation is encouraged! If you
  are interested in performing at the monthly events or attending the works
 hops, please email Continuum at </span><a href="mailto:continuumperformanc
 eart@gmail.com"><span>continuumperformanceart@gmail.com</span></a><span>.<
 /span><br /><br /><br /></strong></p></div><div>--- This iCal file does *N
 OT* confirm registration.Event details subject to change. ---</div><div>--
 - Tendenci&reg\; Software by <a href="https://www.tendenci.com">tendenci.c
 om</a> - The Open Source AMS for Associations ---</div>
BEGIN:VALARM
TRIGGER:-PT30M
ACTION:DISPLAY
DESCRIPTION:Reminder
END:VALARM
END:VEVENT
END:VCALENDAR
