BEGIN:VCALENDAR
VERSION:2.0
METHOD:PUBLISH
PRODID:-//Tendenci - The Open Source AMS for Associations//Tendenci Codeba
 se MIMEDIR//EN
BEGIN:VEVENT
DESCRIPTION:--- This iCal file does *NOT* confirm registration.\nEvent det
 ails subject to change. ---\nhttps://www.avantgardenhouston.com/events/555
 /\n\nEvent Title: AURA Contemporary Ensemble \nStart Date / Time: Nov 20, 
 2012 19:00 PM Africa/Abidjan\nLocation: AvantGarden, downstairs lounge\n\n
 \n\n\nCome hear the best of our season so far while enjoying your favorite
  beverage in the relaxing atmosphere of Avant Garden!Featuring music by:Jo
 hn Cage, William Duckworth, Phillip Elder, Roshanne Etezady, &amp\; Sean F
 riarPerformances by:Caity Piccini, Jennifer Dennison, Lindsey Baggett, Bry
 ant Beauchamp, Christian Restrepo, Matthew Turner, Samuel Hunter, Desmond 
 Ikegwuonu, Mark Buller, Daniel Webbon and Michelle Perrin Blair\n\n\n\n\n\
 n--- This iCal file does *NOT* confirm registration.Event details subject 
 to change. ---\n\n--- By Tendenci - The Open Source AMS for Associations -
 --\n
UID:uid555@avantgardenhouston.com
SUMMARY:AURA Contemporary Ensemble 
DTSTART:20121120T190000Z
DTEND:20121120T203000Z
CLASS:PUBLIC
PRIORITY:5
DTSTAMP:20260420T044139Z
TRANSP:OPAQUE
SEQUENCE:0
LOCATION:AvantGarden, downstairs lounge
X-ALT-DESC;FMTTYPE=text/html:<div>--- This iCal file does *NOT* confirm re
 gistration.Event details subject to change. ---</div><h1>Event Title: AURA
  Contemporary Ensemble </h1><div>https://www.avantgardenhouston.com/events
 /555/</div><br /><div>When: Nov 20, 2012 19:00 PM Africa/Abidjan</div><br 
 /><div><h3> <table class="uiGrid mvm" cellspacing="0" cellpadding="0"> <tb
 ody> <tr> <td class="vTop"><span><span class="fsl"><br /></span></span>Com
 e hear the best of our season so far while enjoying your favorite beverage
  in the relaxing atmosphere of Avant Garden!<span><span class="fsl"><br />
 <br />Featuring music by:<br />John Cage, William Duckworth, Phillip Elder
 , Roshanne Etezady, &amp\; Sean Friar<br /><br />Performances by:<br />Cai
 ty Piccini, Jennifer Dennison, Lindsey Baggett, Bryant Beauchamp, Christia
 n Restrepo, Matthew Turner, Samuel Hunter, Desmond Ikegwuonu, Mark Buller,
  Daniel Webbon and Michelle Perrin Blair</span></span></td> </tr> </tbody>
  </table> </h3></div><div>--- This iCal file does *NOT* confirm registrati
 on.Event details subject to change. ---</div><div>--- Tendenci&reg\; Softw
 are by <a href="https://www.tendenci.com">tendenci.com</a> - The Open Sour
 ce AMS for Associations ---</div>
BEGIN:VALARM
TRIGGER:-PT30M
ACTION:DISPLAY
DESCRIPTION:Reminder
END:VALARM
END:VEVENT
END:VCALENDAR
