BEGIN:VCALENDAR
VERSION:2.0
METHOD:PUBLISH
PRODID:-//Tendenci - The Open Source AMS for Associations//Tendenci Codeba
 se MIMEDIR//EN
BEGIN:VEVENT
DESCRIPTION:--- This iCal file does *NOT* confirm registration.\nEvent det
 ails subject to change. ---\nhttps://www.avantgardenhouston.com/events/568
 /\n\nEvent Title: Christmas Crafts and Flamenco\nStart Date / Time: Dec 22
 , 2012 17:30 PM Africa/Abidjan\nLocation: AvantGarden 2pm till 2am\nMusic:
 \nJeremy Smith on the ocarina with Eddie Espinosa on the classic guitar \n
 Dance:\nChristina Avila\nArts:\nAlex Erazo\nCobi Crawford,\nPam Montes \nC
 rafts:\nCrocheted treasures by Adriana Vidales \nCuscakes by Melanie Soule
  \nChristina Avila\nPastries by Elaine and Alanna cherry \n\n--- This iCal
  file does *NOT* confirm registration.Event details subject to change. ---
 \n\n--- By Tendenci - The Open Source AMS for Associations ---\n
UID:uid568@avantgardenhouston.com
SUMMARY:Christmas Crafts and Flamenco
DTSTART:20121222T173000Z
DTEND:20121222T233000Z
CLASS:PUBLIC
PRIORITY:5
DTSTAMP:20260420T061107Z
TRANSP:OPAQUE
SEQUENCE:0
LOCATION:AvantGarden 2pm till 2am
X-ALT-DESC;FMTTYPE=text/html:<div>--- This iCal file does *NOT* confirm re
 gistration.Event details subject to change. ---</div><h1>Event Title: Chri
 stmas Crafts and Flamenco</h1><div>https://www.avantgardenhouston.com/even
 ts/568/</div><br /><div>When: Dec 22, 2012 17:30 PM Africa/Abidjan</div><b
 r /><div><p>Music:</p> <p>Jeremy Smith on the ocarina with Eddie Espinosa 
 on the classic guitar&nbsp\;</p> <p>Dance:</p> <p><span>Christina Avila</s
 pan></p> <p>Arts:</p> <p>Alex Erazo</p> <p>Cobi Crawford,</p> <p>Pam Monte
 s&nbsp\;</p> <p>Crafts:</p> <p>Crocheted treasures by&nbsp\;Adriana Vidale
 s&nbsp\;</p> <p>Cuscakes by Melanie Soule&nbsp\;</p> <p>Christina Avila</p
 > <p>Pastries by Elaine and&nbsp\;Alanna cherry&nbsp\;</p></div><div>--- T
 his iCal file does *NOT* confirm registration.Event details subject to cha
 nge. ---</div><div>--- Tendenci&reg\; Software by <a href="https://www.ten
 denci.com">tendenci.com</a> - The Open Source AMS for Associations ---</di
 v>
BEGIN:VALARM
TRIGGER:-PT30M
ACTION:DISPLAY
DESCRIPTION:Reminder
END:VALARM
END:VEVENT
END:VCALENDAR
