BEGIN:VCALENDAR
VERSION:2.0
METHOD:PUBLISH
PRODID:-//Tendenci - The Open Source AMS for Associations//Tendenci Codeba
 se MIMEDIR//EN
BEGIN:VEVENT
DESCRIPTION:--- This iCal file does *NOT* confirm registration.\nEvent det
 ails subject to change. ---\nhttps://www.avantgardenhouston.com/events/589
 /\n\nEvent Title: Goodbye 2012! Hello 2013!\nStart Date / Time: Dec 31, 20
 12 19:30 PM Africa/Abidjan\nLocation: AvantGarden till 2am\nGoogle\nhttp:/
 /maps.google.com/maps?q=411+Westheimer+rd,Houston,Texas,77006\n\nForecast\
 nhttp://www.weather.com/weather/monthly/77006\n\nTime is a strange thing. 
 We've outlived another year and we'll party hard to welcome baby 2013!k\nO
 pen party, no cover, no minimum drink requirement, drink specials, dance m
 usic dj upstairs.\ncome celebrate with us tonight!\n\n\n--- This iCal file
  does *NOT* confirm registration.Event details subject to change. ---\n\n-
 -- By Tendenci - The Open Source AMS for Associations ---\n
UID:uid589@avantgardenhouston.com
SUMMARY:Goodbye 2012! Hello 2013!
DTSTART:20121231T193000Z
DTEND:20121231T193000Z
CLASS:PUBLIC
PRIORITY:5
DTSTAMP:20260420T061600Z
TRANSP:OPAQUE
SEQUENCE:0
LOCATION:AvantGarden till 2am
X-ALT-DESC;FMTTYPE=text/html:<div>--- This iCal file does *NOT* confirm re
 gistration.Event details subject to change. ---</div><h1>Event Title: Good
 bye 2012! Hello 2013!</h1><div>https://www.avantgardenhouston.com/events/5
 89/</div><br /><div>When: Dec 31, 2012 19:30 PM Africa/Abidjan</div><br />
 AvantGarden till 2am<br />411 Westheimer rd<br />Houston, Texas 77006<br /
 ><div>http://maps.google.com/maps?q=411+Westheimer+rd,Houston,Texas,77006<
 /div><br /><div>Forecast: http://www.weather.com/weather/monthly/77006</di
 v><br /><br /><div>Time is a strange thing. We've outlived another year an
 d we'll party hard to welcome baby 2013!</p>k <p>Open party, no cover, no 
 minimum drink requirement, drink specials, dance music dj upstairs. <p>com
 e celebrate with us tonight! </div><div>--- This iCal file does *NOT* conf
 irm registration.Event details subject to change. ---</div><div>--- Tenden
 ci&reg\; Software by <a href="https://www.tendenci.com">tendenci.com</a> -
  The Open Source AMS for Associations ---</div>
BEGIN:VALARM
TRIGGER:-PT30M
ACTION:DISPLAY
DESCRIPTION:Reminder
END:VALARM
END:VEVENT
END:VCALENDAR
