BEGIN:VCALENDAR
VERSION:2.0
METHOD:PUBLISH
PRODID:-//Tendenci - The Open Source AMS for Associations//Tendenci Codeba
 se MIMEDIR//EN
BEGIN:VEVENT
DESCRIPTION:--- This iCal file does *NOT* confirm registration.\nEvent det
 ails subject to change. ---\nhttps://www.avantgardenhouston.com/events/589
 2/\n\nEvent Title: PRIVATE EVENT. CLOSED TO THE PUBLIC\nStart Date / Time:
  Dec 31, 2024 00:00 AM US/Central\nLocation: \n\n\n--- This iCal file does
  *NOT* confirm registration.Event details subject to change. ---\n\n--- By
  Tendenci - The Open Source AMS for Associations ---\n
UID:uid5892@avantgardenhouston.com
SUMMARY:PRIVATE EVENT. CLOSED TO THE PUBLIC
DTSTART:20241231T060000Z
DTEND:20250101T055959Z
CLASS:PUBLIC
PRIORITY:5
DTSTAMP:20260420T094250Z
TRANSP:OPAQUE
SEQUENCE:0
X-ALT-DESC;FMTTYPE=text/html:<div>--- This iCal file does *NOT* confirm re
 gistration.Event details subject to change. ---</div><h1>Event Title: PRIV
 ATE EVENT. CLOSED TO THE PUBLIC</h1><div>https://www.avantgardenhouston.co
 m/events/5892/</div><br /><div>When: Dec 31, 2024 00:00 AM US/Central</div
 ><br /><div></div><div>--- This iCal file does *NOT* confirm registration.
 Event details subject to change. ---</div><div>--- Tendenci&reg\; Software
  by <a href="https://www.tendenci.com">tendenci.com</a> - The Open Source 
 AMS for Associations ---</div>
BEGIN:VALARM
TRIGGER:-PT30M
ACTION:DISPLAY
DESCRIPTION:Reminder
END:VALARM
END:VEVENT
END:VCALENDAR
