BEGIN:VCALENDAR
VERSION:2.0
METHOD:PUBLISH
PRODID:-//Tendenci - The Open Source AMS for Associations//Tendenci Codeba
 se MIMEDIR//EN
BEGIN:VEVENT
DESCRIPTION:--- This iCal file does *NOT* confirm registration.\nEvent det
 ails subject to change. ---\nhttps://www.avantgardenhouston.com/events/627
 7/\n\nEvent Title: Free Radicals Live music\nStart Date / Time: Nov 14, 20
 24 00:00 AM US/Central\nLocation: \n\n\n--- This iCal file does *NOT* conf
 irm registration.Event details subject to change. ---\n\n--- By Tendenci -
  The Open Source AMS for Associations ---\n
UID:uid6277@avantgardenhouston.com
SUMMARY:Free Radicals Live music
DTSTART:20241114T060000Z
DTEND:20241115T055959Z
CLASS:PUBLIC
PRIORITY:5
DTSTAMP:20260420T074506Z
TRANSP:OPAQUE
SEQUENCE:0
X-ALT-DESC;FMTTYPE=text/html:<div>--- This iCal file does *NOT* confirm re
 gistration.Event details subject to change. ---</div><h1>Event Title: Free
  Radicals Live music</h1><div>https://www.avantgardenhouston.com/events/62
 77/</div><br /><div>When: Nov 14, 2024 00:00 AM US/Central</div><br /><div
 ></div><div>--- This iCal file does *NOT* confirm registration.Event detai
 ls subject to change. ---</div><div>--- Tendenci&reg\; Software by <a href
 ="https://www.tendenci.com">tendenci.com</a> - The Open Source AMS for Ass
 ociations ---</div>
BEGIN:VALARM
TRIGGER:-PT30M
ACTION:DISPLAY
DESCRIPTION:Reminder
END:VALARM
END:VEVENT
END:VCALENDAR
