BEGIN:VCALENDAR
VERSION:2.0
METHOD:PUBLISH
PRODID:-//Tendenci - The Open Source AMS for Associations//Tendenci Codeba
 se MIMEDIR//EN
BEGIN:VEVENT
DESCRIPTION:--- This iCal file does *NOT* confirm registration.\nEvent det
 ails subject to change. ---\nhttps://www.avantgardenhouston.com/events/637
 /\n\nEvent Title: Devil Killing Moth and Shotgun Betties\nStart Date / Tim
 e: Feb 08, 2013 20:00 PM Africa/Abidjan\nLocation: AvantGarden till 2am\nG
 oogle\nhttp://maps.google.com/maps?q=411+Westheimer+rd,Houston,Texas,77006
 \n\nForecast\nhttp://www.weather.com/weather/monthly/77006\n\n\n\n--- This
  iCal file does *NOT* confirm registration.Event details subject to change
 . ---\n\n--- By Tendenci - The Open Source AMS for Associations ---\n
UID:uid637@avantgardenhouston.com
SUMMARY:Devil Killing Moth and Shotgun Betties
DTSTART:20130208T200000Z
DTEND:20130208T200000Z
CLASS:PUBLIC
PRIORITY:5
DTSTAMP:20260419T175313Z
TRANSP:OPAQUE
SEQUENCE:0
LOCATION:AvantGarden till 2am
X-ALT-DESC;FMTTYPE=text/html:<div>--- This iCal file does *NOT* confirm re
 gistration.Event details subject to change. ---</div><h1>Event Title: Devi
 l Killing Moth and Shotgun Betties</h1><div>https://www.avantgardenhouston
 .com/events/637/</div><br /><div>When: Feb 08, 2013 20:00 PM Africa/Abidja
 n</div><br />AvantGarden till 2am<br />411 Westheimer rd<br />Houston, Tex
 as 77006<br /><div>http://maps.google.com/maps?q=411+Westheimer+rd,Houston
 ,Texas,77006</div><br /><div>Forecast: http://www.weather.com/weather/mont
 hly/77006</div><br /><br /><div></div><div>--- This iCal file does *NOT* c
 onfirm registration.Event details subject to change. ---</div><div>--- Ten
 denci&reg\; Software by <a href="https://www.tendenci.com">tendenci.com</a
 > - The Open Source AMS for Associations ---</div>
BEGIN:VALARM
TRIGGER:-PT30M
ACTION:DISPLAY
DESCRIPTION:Reminder
END:VALARM
END:VEVENT
END:VCALENDAR
