BEGIN:VCALENDAR
VERSION:2.0
METHOD:PUBLISH
PRODID:-//Tendenci - The Open Source AMS for Associations//Tendenci Codeba
 se MIMEDIR//EN
BEGIN:VEVENT
DESCRIPTION:--- This iCal file does *NOT* confirm registration.\nEvent det
 ails subject to change. ---\nhttps://www.avantgardenhouston.com/events/642
 /\n\nEvent Title: Multiple band showcase \nStart Date / Time: Feb 09, 2013
  21:00 PM US/Central\nLocation: AvantGarden whole venue till 2am no cover\
 nGoogle\nhttp://maps.google.com/maps?q=411+Westheimer,Houston,Tx,77006\n\n
 Forecast\nhttp://www.weather.com/weather/monthly/77006\n\nCtrl.alt.jay\n9:
 00 Hoffle Stoff Awaffogus\n9:30 We Scare Coyotes\n10:15 7south1\n11:00 Rui
 ners\n11:45 excuseMesir\n12:30 Sunrise & Ammunition\n\n--- This iCal file 
 does *NOT* confirm registration.Event details subject to change. ---\n\n--
 - By Tendenci - The Open Source AMS for Associations ---\n
UID:uid642@avantgardenhouston.com
SUMMARY:Multiple band showcase 
DTSTART:20130210T030000Z
DTEND:20130210T030000Z
CLASS:PUBLIC
PRIORITY:5
DTSTAMP:20260420T124008Z
TRANSP:OPAQUE
SEQUENCE:0
LOCATION:AvantGarden whole venue till 2am no cover
X-ALT-DESC;FMTTYPE=text/html:<div>--- This iCal file does *NOT* confirm re
 gistration.Event details subject to change. ---</div><h1>Event Title: Mult
 iple band showcase </h1><div>https://www.avantgardenhouston.com/events/642
 /</div><br /><div>When: Feb 09, 2013 21:00 PM US/Central</div><br />AvantG
 arden whole venue till 2am no cover<br />411 Westheimer<br />Houston, Tx 7
 7006<br /><div>http://maps.google.com/maps?q=411+Westheimer,Houston,Tx,770
 06</div><br /><div>Forecast: http://www.weather.com/weather/monthly/77006<
 /div><br /><br /><div>Ctrl.alt.jay 9:00 Hoffle Stoff Awaffogus 9:30 We Sca
 re Coyotes 10:15 7south1 11:00 Ruiners 11:45 excuseMesir 12:30 Sunrise & A
 mmunition</div><div>--- This iCal file does *NOT* confirm registration.Eve
 nt details subject to change. ---</div><div>--- Tendenci&reg\; Software by
  <a href="https://www.tendenci.com">tendenci.com</a> - The Open Source AMS
  for Associations ---</div>
BEGIN:VALARM
TRIGGER:-PT30M
ACTION:DISPLAY
DESCRIPTION:Reminder
END:VALARM
END:VEVENT
END:VCALENDAR
