BEGIN:VCALENDAR
VERSION:2.0
METHOD:PUBLISH
PRODID:-//Tendenci - The Open Source AMS for Associations//Tendenci Codeba
 se MIMEDIR//EN
BEGIN:VEVENT
DESCRIPTION:--- This iCal file does *NOT* confirm registration.\nEvent det
 ails subject to change. ---\nhttps://www.avantgardenhouston.com/events/643
 /\n\nEvent Title: Espantapajaros and Guests TBA\nStart Date / Time: Feb 16
 , 2013 21:00 PM US/Central\nLocation: \n\n\n--- This iCal file does *NOT* 
 confirm registration.Event details subject to change. ---\n\n--- By Tenden
 ci - The Open Source AMS for Associations ---\n
UID:uid643@avantgardenhouston.com
SUMMARY:Espantapajaros and Guests TBA
DTSTART:20130217T030000Z
DTEND:20130217T030000Z
CLASS:PUBLIC
PRIORITY:5
DTSTAMP:20260420T130008Z
TRANSP:OPAQUE
SEQUENCE:0
X-ALT-DESC;FMTTYPE=text/html:<div>--- This iCal file does *NOT* confirm re
 gistration.Event details subject to change. ---</div><h1>Event Title: Espa
 ntapajaros and Guests TBA</h1><div>https://www.avantgardenhouston.com/even
 ts/643/</div><br /><div>When: Feb 16, 2013 21:00 PM US/Central</div><br />
 <div></div><div>--- This iCal file does *NOT* confirm registration.Event d
 etails subject to change. ---</div><div>--- Tendenci&reg\; Software by <a 
 href="https://www.tendenci.com">tendenci.com</a> - The Open Source AMS for
  Associations ---</div>
BEGIN:VALARM
TRIGGER:-PT30M
ACTION:DISPLAY
DESCRIPTION:Reminder
END:VALARM
END:VEVENT
END:VCALENDAR
