BEGIN:VCALENDAR
VERSION:2.0
METHOD:PUBLISH
PRODID:-//Tendenci - The Open Source AMS for Associations//Tendenci Codeba
 se MIMEDIR//EN
BEGIN:VEVENT
DESCRIPTION:--- This iCal file does *NOT* confirm registration.\nEvent det
 ails subject to change. ---\nhttps://www.avantgardenhouston.com/events/644
 /\n\nEvent Title: pushing the limits\nStart Date / Time: Feb 23, 2013 19:0
 0 PM US/Central\nLocation: AvantGarden \nGoogle\nhttp://maps.google.com/ma
 ps?q=AvantGarden+,Houston ,TX,77006\n\nForecast\nhttp://www.weather.com/we
 ather/monthly/77006\n\nA tribute to the Disney classic, The Lion King.\n\n
 The show will consist of a Live Concert featuring numerous Music Genres, A
 rt Gallery, Fire Spinning, Live Canvas & Body Painting.\n\nVideo Recording
  courtesy of Houston's Media Source & Velt Pictures\n\nFire Spinning court
 esy of Gypsy Tricks, Inc.\n\n$1 Art Raffle will be held, 100% of proceeds 
 will be donated to Art League of Houston Charity, www.artleaguehouston.org
 /\n\nDoor Price:\n$5 Presale Tickets \n$10 (+21 only)\nID strictly enforce
 d\n\nArtist, Fashion Designers, Musicians. & Vendors will be selling vario
 us forms of Merchandise.\n\nWe will be having live music performances by:\
 n\nLeroy Cook 8:00-8:20\nhttp://www.youtube.com/channel/UCkzEEmX39Gi0QRUwi
 YL4hvg?feature=watch\n\nMista Monty B (Accompanied by Chris V. of Gas & Gr
 aves) 8:30-8:50 http://www.youtube.com/watch?v=u7arRxnszcI\n\nBrainstorm F
 or Tuesday 9:00-9:20\nhttp://www.reverbnation.com/brainstormfortuesday\n\n
 Puppet 9:30-9:50\nhttp://www.reverbnation.com/nomorepuppets\n\nMellow Riot
  10:00-10:20\nhttp://www.reverbnation.com/mellowriot\n\nGrey Matters 10:30
 -10:50\nwww.reverbnation.com/greymatters\n\nLion Among Men 11:00-11:20\nht
 tp://www.reverbnation.com/lionamongmen\n\nListen Ashley 11:30-11:50\nhttps
 ://www.facebook.com/ashleyfranklinmusic/\n\nDays N Daze 12:00-12:20\nhttp:
 //www.reverbnation.com/daysndaze\n\nWors† N‡gh†mare 12:30-12:50\nwww
 .reverbnation.com/worstnightmare777\n\nLos Tres Dudes 1:00-1:20\nwww.rever
 bnation.com/lostresdudes\n\nOn Deck Outside:\n\nDJ Brandon Lee 8:00-9:00\n
 \nSplatterhaus 9:00-10:00\nhttps://www.facebook.com/Splatterhaus666\n\nDre
 ssing in Costume is strongly encouraged!\n\n\n\n--- This iCal file does *N
 OT* confirm registration.Event details subject to change. ---\n\n--- By Te
 ndenci - The Open Source AMS for Associations ---\n
UID:uid644@avantgardenhouston.com
SUMMARY:pushing the limits
DTSTART:20130224T010000Z
DTEND:20130224T010000Z
CLASS:PUBLIC
PRIORITY:5
DTSTAMP:20260419T150432Z
TRANSP:OPAQUE
SEQUENCE:0
LOCATION:AvantGarden 
X-ALT-DESC;FMTTYPE=text/html:<div>--- This iCal file does *NOT* confirm re
 gistration.Event details subject to change. ---</div><h1>Event Title: push
 ing the limits</h1><div>https://www.avantgardenhouston.com/events/644/</di
 v><br /><div>When: Feb 23, 2013 19:00 PM US/Central</div><br />AvantGarden
  <br />AvantGarden <br />Houston , TX 77006<br /><div>http://maps.google.c
 om/maps?q=AvantGarden+,Houston ,TX,77006</div><br /><div>Forecast: http://
 www.weather.com/weather/monthly/77006</div><br /><br /><div>A tribute to t
 he Disney classic, The Lion King.  The show will consist of a Live Concert
  featuring numerous Music Genres, Art Gallery, Fire Spinning, Live Canvas 
 & Body Painting.  Video Recording courtesy of Houston's Media Source & Vel
 t Pictures  Fire Spinning courtesy of Gypsy Tricks, Inc.  $1 Art Raffle wi
 ll be held, 100% of proceeds will be donated to Art League of Houston Char
 ity, www.artleaguehouston.org/  Door Price: $5 Presale Tickets  $10 (+21 o
 nly) ID strictly enforced  Artist, Fashion Designers, Musicians. & Vendors
  will be selling various forms of Merchandise.  We will be having live mus
 ic performances by:  Leroy Cook 8:00-8:20 http://www.youtube.com/channel/U
 CkzEEmX39Gi0QRUwiYL4hvg?feature=watch  Mista Monty B (Accompanied by Chris
  V. of Gas & Graves) 8:30-8:50 http://www.youtube.com/watch?v=u7arRxnszcI 
  Brainstorm For Tuesday 9:00-9:20 http://www.reverbnation.com/brainstormfo
 rtuesday  Puppet 9:30-9:50 http://www.reverbnation.com/nomorepuppets  Mell
 ow Riot 10:00-10:20 http://www.reverbnation.com/mellowriot  Grey Matters 1
 0:30-10:50 www.reverbnation.com/greymatters  Lion Among Men 11:00-11:20 ht
 tp://www.reverbnation.com/lionamongmen  Listen Ashley 11:30-11:50 https://
 www.facebook.com/ashleyfranklinmusic/  Days N Daze 12:00-12:20 http://www.
 reverbnation.com/daysndaze  Wors† N‡gh†mare 12:30-12:50 www.reverbna
 tion.com/worstnightmare777  Los Tres Dudes 1:00-1:20 www.reverbnation.com/
 lostresdudes  On Deck Outside:  DJ Brandon Lee 8:00-9:00  Splatterhaus 9:0
 0-10:00 https://www.facebook.com/Splatterhaus666  Dressing in Costume is s
 trongly encouraged!  </div><div>--- This iCal file does *NOT* confirm regi
 stration.Event details subject to change. ---</div><div>--- Tendenci&reg\;
  Software by <a href="https://www.tendenci.com">tendenci.com</a> - The Ope
 n Source AMS for Associations ---</div>
BEGIN:VALARM
TRIGGER:-PT30M
ACTION:DISPLAY
DESCRIPTION:Reminder
END:VALARM
END:VEVENT
END:VCALENDAR
