BEGIN:VCALENDAR
VERSION:2.0
METHOD:PUBLISH
PRODID:-//Tendenci - The Open Source AMS for Associations//Tendenci Codeba
 se MIMEDIR//EN
BEGIN:VEVENT
DESCRIPTION:--- This iCal file does *NOT* confirm registration.\nEvent det
 ails subject to change. ---\nhttps://www.avantgardenhouston.com/events/645
 /\n\nEvent Title: Multiple Band Showcase\nStart Date / Time: Feb 08, 2013 
 21:00 PM US/Central\nLocation: AvantGarden \nDevil Killing Moth, Clory Mar
 tin, Shotgun Betties, Los Pistoleros, and Peak Allon upstairs\nIllegal Wir
 etraps downstairs\n\n--- This iCal file does *NOT* confirm registration.Ev
 ent details subject to change. ---\n\n--- By Tendenci - The Open Source AM
 S for Associations ---\n
UID:uid645@avantgardenhouston.com
SUMMARY:Multiple Band Showcase
DTSTART:20130209T030000Z
DTEND:20130209T030000Z
CLASS:PUBLIC
PRIORITY:5
DTSTAMP:20260420T123250Z
TRANSP:OPAQUE
SEQUENCE:0
LOCATION:AvantGarden 
X-ALT-DESC;FMTTYPE=text/html:<div>--- This iCal file does *NOT* confirm re
 gistration.Event details subject to change. ---</div><h1>Event Title: Mult
 iple Band Showcase</h1><div>https://www.avantgardenhouston.com/events/645/
 </div><br /><div>When: Feb 08, 2013 21:00 PM US/Central</div><br /><div>De
 vil Killing Moth, Clory Martin, Shotgun Betties, Los Pistoleros, and Peak 
 Allon upstairs Illegal Wiretraps downstairs</div><div>--- This iCal file d
 oes *NOT* confirm registration.Event details subject to change. ---</div><
 div>--- Tendenci&reg\; Software by <a href="https://www.tendenci.com">tend
 enci.com</a> - The Open Source AMS for Associations ---</div>
BEGIN:VALARM
TRIGGER:-PT30M
ACTION:DISPLAY
DESCRIPTION:Reminder
END:VALARM
END:VEVENT
END:VCALENDAR
