BEGIN:VCALENDAR
VERSION:2.0
METHOD:PUBLISH
PRODID:-//Tendenci - The Open Source AMS for Associations//Tendenci Codeba
 se MIMEDIR//EN
BEGIN:VEVENT
DESCRIPTION:--- This iCal file does *NOT* confirm registration.\nEvent det
 ails subject to change. ---\nhttps://www.avantgardenhouston.com/events/659
 /\n\nEvent Title: private party till midnight\nStart Date / Time: Mar 23, 
 2013 18:15 PM US/Central\nLocation: \n\n\n--- This iCal file does *NOT* co
 nfirm registration.Event details subject to change. ---\n\n--- By Tendenci
  - The Open Source AMS for Associations ---\n
UID:uid659@avantgardenhouston.com
SUMMARY:private party till midnight
DTSTART:20130323T231500Z
DTEND:20130324T043000Z
CLASS:PUBLIC
PRIORITY:5
DTSTAMP:20260420T143417Z
TRANSP:OPAQUE
SEQUENCE:0
X-ALT-DESC;FMTTYPE=text/html:<div>--- This iCal file does *NOT* confirm re
 gistration.Event details subject to change. ---</div><h1>Event Title: priv
 ate party till midnight</h1><div>https://www.avantgardenhouston.com/events
 /659/</div><br /><div>When: Mar 23, 2013 18:15 PM US/Central</div><br /><d
 iv></div><div>--- This iCal file does *NOT* confirm registration.Event det
 ails subject to change. ---</div><div>--- Tendenci&reg\; Software by <a hr
 ef="https://www.tendenci.com">tendenci.com</a> - The Open Source AMS for A
 ssociations ---</div>
BEGIN:VALARM
TRIGGER:-PT30M
ACTION:DISPLAY
DESCRIPTION:Reminder
END:VALARM
END:VEVENT
END:VCALENDAR
