BEGIN:VCALENDAR
VERSION:2.0
METHOD:PUBLISH
PRODID:-//Tendenci - The Open Source AMS for Associations//Tendenci Codeba
 se MIMEDIR//EN
BEGIN:VEVENT
DESCRIPTION:--- This iCal file does *NOT* confirm registration.\nEvent det
 ails subject to change. ---\nhttps://www.avantgardenhouston.com/events/660
 /\n\nEvent Title: Wedding. private event\nStart Date / Time: Mar 16, 2013 
 00:00 AM US/Central\nLocation: \n\n\n--- This iCal file does *NOT* confirm
  registration.Event details subject to change. ---\n\n--- By Tendenci - Th
 e Open Source AMS for Associations ---\n
UID:uid660@avantgardenhouston.com
SUMMARY:Wedding. private event
DTSTART:20130316T050000Z
DTEND:20130317T045900Z
CLASS:PUBLIC
PRIORITY:5
DTSTAMP:20260420T140601Z
TRANSP:OPAQUE
SEQUENCE:0
X-ALT-DESC;FMTTYPE=text/html:<div>--- This iCal file does *NOT* confirm re
 gistration.Event details subject to change. ---</div><h1>Event Title: Wedd
 ing. private event</h1><div>https://www.avantgardenhouston.com/events/660/
 </div><br /><div>When: Mar 16, 2013 00:00 AM US/Central</div><br /><div></
 div><div>--- This iCal file does *NOT* confirm registration.Event details 
 subject to change. ---</div><div>--- Tendenci&reg\; Software by <a href="h
 ttps://www.tendenci.com">tendenci.com</a> - The Open Source AMS for Associ
 ations ---</div>
BEGIN:VALARM
TRIGGER:-PT30M
ACTION:DISPLAY
DESCRIPTION:Reminder
END:VALARM
END:VEVENT
END:VCALENDAR
