BEGIN:VCALENDAR
VERSION:2.0
METHOD:PUBLISH
PRODID:-//Tendenci - The Open Source AMS for Associations//Tendenci Codeba
 se MIMEDIR//EN
BEGIN:VEVENT
DESCRIPTION:--- This iCal file does *NOT* confirm registration.\nEvent det
 ails subject to change. ---\nhttps://www.avantgardenhouston.com/events/661
 /\n\nEvent Title: Minerva's Birthday. Private party. Invitations only!\nSt
 art Date / Time: Mar 30, 2013 18:00 PM US/Central\nLocation: \n\n\n--- Thi
 s iCal file does *NOT* confirm registration.Event details subject to chang
 e. ---\n\n--- By Tendenci - The Open Source AMS for Associations ---\n
UID:uid661@avantgardenhouston.com
SUMMARY:Minerva's Birthday. Private party. Invitations only!
DTSTART:20130330T230000Z
DTEND:20130331T045900Z
CLASS:PUBLIC
PRIORITY:5
DTSTAMP:20260420T153620Z
TRANSP:OPAQUE
SEQUENCE:0
X-ALT-DESC;FMTTYPE=text/html:<div>--- This iCal file does *NOT* confirm re
 gistration.Event details subject to change. ---</div><h1>Event Title: Mine
 rva's Birthday. Private party. Invitations only!</h1><div>https://www.avan
 tgardenhouston.com/events/661/</div><br /><div>When: Mar 30, 2013 18:00 PM
  US/Central</div><br /><div></div><div>--- This iCal file does *NOT* confi
 rm registration.Event details subject to change. ---</div><div>--- Tendenc
 i&reg\; Software by <a href="https://www.tendenci.com">tendenci.com</a> - 
 The Open Source AMS for Associations ---</div>
BEGIN:VALARM
TRIGGER:-PT30M
ACTION:DISPLAY
DESCRIPTION:Reminder
END:VALARM
END:VEVENT
END:VCALENDAR
