BEGIN:VCALENDAR
VERSION:2.0
METHOD:PUBLISH
PRODID:-//Tendenci - The Open Source AMS for Associations//Tendenci Codeba
 se MIMEDIR//EN
BEGIN:VEVENT
DESCRIPTION:--- This iCal file does *NOT* confirm registration.\nEvent det
 ails subject to change. ---\nhttps://www.avantgardenhouston.com/events/77/
 \n\nEvent Title: "Aletheia in the Garden"\nStart Date / Time: Nov 16, 2011
  19:00 PM US/Central\nLocation: This event takes place In the back patio, 
 but it will move indoors during the cold months\n\n\n\nAletheia in the Gar
 den\n\n\n\n\n\n\nEvery third Wednesday of the month, The Aletheia invites 
 you to join us at Avant Garden for a literary and visual arts showcase! Al
 etheia in the Garden showcases the best in undergraduate work from the Uni
 versity of Houston. Like us on Facebook for current reading series informa
 tion.\nhttp://www.thealetheiajournal.com/Home.html\n\n\n\n\n--- This iCal 
 file does *NOT* confirm registration.Event details subject to change. ---\
 n\n--- By Tendenci - The Open Source AMS for Associations ---\n
UID:uid77@avantgardenhouston.com
SUMMARY:"Aletheia in the Garden"
DTSTART:20111117T010000Z
DTEND:20111117T033000Z
CLASS:PUBLIC
PRIORITY:5
DTSTAMP:20260419T145650Z
TRANSP:OPAQUE
SEQUENCE:0
LOCATION:This event takes place In the back patio, but it will move indoor
 s during the cold months
X-ALT-DESC;FMTTYPE=text/html:<div>--- This iCal file does *NOT* confirm re
 gistration.Event details subject to change. ---</div><h1>Event Title: "Ale
 theia in the Garden"</h1><div>https://www.avantgardenhouston.com/events/77
 /</div><br /><div>When: Nov 16, 2011 19:00 PM US/Central</div><br /><div><
 div id="id4" class="style_SkipStroke"> <div class="text-content graphic_te
 xtbox_layout_style_default_External_440_39"> <div class="graphic_textbox_l
 ayout_style_default"> <p class="paragraph_style_1">Aletheia in the Garden<
 /p> </div> </div> </div> <div id="id5" class="style_SkipStroke"> <div clas
 s="text-content graphic_textbox_layout_style_default_External_440_100"> <d
 iv class="graphic_textbox_layout_style_default"> <p class="paragraph_style
 _2">Every third Wednesday of the month, The Aletheia invites you to join u
 s at Avant Garden for a literary and visual arts showcase! Aletheia in the
  Garden showcases the best in undergraduate work from the University of Ho
 uston. Like us on&nbsp\;<a title="http://www.facebook.com/thealetheiajourn
 al?ref=ts" href="http://www.facebook.com/thealetheiajournal?ref=ts">Facebo
 ok</a>&nbsp\;for current reading series information.</p> <p class="paragra
 ph_style_2"><a href="http://www.thealetheiajournal.com/Home.html">http://w
 ww.thealetheiajournal.com/Home.html</a></p> </div> </div> </div></div><div
 >--- This iCal file does *NOT* confirm registration.Event details subject 
 to change. ---</div><div>--- Tendenci&reg\; Software by <a href="https://w
 ww.tendenci.com">tendenci.com</a> - The Open Source AMS for Associations -
 --</div>
BEGIN:VALARM
TRIGGER:-PT30M
ACTION:DISPLAY
DESCRIPTION:Reminder
END:VALARM
END:VEVENT
END:VCALENDAR
