BEGIN:VCALENDAR
VERSION:2.0
METHOD:PUBLISH
PRODID:-//Tendenci - The Open Source AMS for Associations//Tendenci Codeba
 se MIMEDIR//EN
BEGIN:VEVENT
DESCRIPTION:--- This iCal file does *NOT* confirm registration.\nEvent det
 ails subject to change. ---\nhttps://www.avantgardenhouston.com/events/81/
 \n\nEvent Title: Black Friday Bash with the NICEGUYS\nStart Date / Time: N
 ov 25, 2011 21:00 PM US/Central\nLocation: \nParty with Houstons' most fun
  dj's\n9PM till closing, the NICEGUYS will keep you dancing.\nNo cover. Dr
 ink specials.\n\n--- This iCal file does *NOT* confirm registration.Event 
 details subject to change. ---\n\n--- By Tendenci - The Open Source AMS fo
 r Associations ---\n
UID:uid81@avantgardenhouston.com
SUMMARY:Black Friday Bash with the NICEGUYS
DTSTART:20111126T030000Z
DTEND:20111126T055900Z
CLASS:PUBLIC
PRIORITY:5
DTSTAMP:20260419T145847Z
TRANSP:OPAQUE
SEQUENCE:0
X-ALT-DESC;FMTTYPE=text/html:<div>--- This iCal file does *NOT* confirm re
 gistration.Event details subject to change. ---</div><h1>Event Title: Blac
 k Friday Bash with the NICEGUYS</h1><div>https://www.avantgardenhouston.co
 m/events/81/</div><br /><div>When: Nov 25, 2011 21:00 PM US/Central</div><
 br /><div><p>Party with Houstons' most fun dj's</p> <p>9PM till closing, t
 he NICEGUYS will keep you dancing.</p> <p>No cover. Drink specials.</p></d
 iv><div>--- This iCal file does *NOT* confirm registration.Event details s
 ubject to change. ---</div><div>--- Tendenci&reg\; Software by <a href="ht
 tps://www.tendenci.com">tendenci.com</a> - The Open Source AMS for Associa
 tions ---</div>
BEGIN:VALARM
TRIGGER:-PT30M
ACTION:DISPLAY
DESCRIPTION:Reminder
END:VALARM
END:VEVENT
END:VCALENDAR
