BEGIN:VCALENDAR
VERSION:2.0
METHOD:PUBLISH
PRODID:-//Tendenci - The Open Source AMS for Associations//Tendenci Codeba
 se MIMEDIR//EN
BEGIN:VEVENT
DESCRIPTION:--- This iCal file does *NOT* confirm registration.\nEvent det
 ails subject to change. ---\nhttps://www.avantgardenhouston.com/events/87/
 \n\nEvent Title: the nightmare before christmas\nStart Date / Time: Dec 23
 , 2011 18:30 PM US/Central\nLocation: \nhouse party. 14+ dj's\n\n--- This 
 iCal file does *NOT* confirm registration.Event details subject to change.
  ---\n\n--- By Tendenci - The Open Source AMS for Associations ---\n
UID:uid87@avantgardenhouston.com
SUMMARY:the nightmare before christmas
DTSTART:20111224T003000Z
DTEND:20111224T055900Z
CLASS:PUBLIC
PRIORITY:5
DTSTAMP:20260419T164034Z
TRANSP:OPAQUE
SEQUENCE:0
X-ALT-DESC;FMTTYPE=text/html:<div>--- This iCal file does *NOT* confirm re
 gistration.Event details subject to change. ---</div><h1>Event Title: the 
 nightmare before christmas</h1><div>https://www.avantgardenhouston.com/eve
 nts/87/</div><br /><div>When: Dec 23, 2011 18:30 PM US/Central</div><br />
 <div><p>house party. 14+ dj's</p></div><div>--- This iCal file does *NOT* 
 confirm registration.Event details subject to change. ---</div><div>--- Te
 ndenci&reg\; Software by <a href="https://www.tendenci.com">tendenci.com</
 a> - The Open Source AMS for Associations ---</div>
BEGIN:VALARM
TRIGGER:-PT30M
ACTION:DISPLAY
DESCRIPTION:Reminder
END:VALARM
END:VEVENT
END:VCALENDAR
