BEGIN:VCALENDAR
VERSION:2.0
METHOD:PUBLISH
PRODID:-//Tendenci - The Open Source AMS for Associations//Tendenci Codeba
 se MIMEDIR//EN
BEGIN:VEVENT
DESCRIPTION:--- This iCal file does *NOT* confirm registration.\nEvent det
 ails subject to change. ---\nhttps://www.avantgardenhouston.com/events/913
 /\n\nEvent Title: Wedding, private event, doors open at midnight\nStart Da
 te / Time: Oct 19, 2013 15:15 PM US/Central\nLocation: \n\n\n--- This iCal
  file does *NOT* confirm registration.Event details subject to change. ---
 \n\n--- By Tendenci - The Open Source AMS for Associations ---\n
UID:uid913@avantgardenhouston.com
SUMMARY:Wedding, private event, doors open at midnight
DTSTART:20131019T201500Z
DTEND:20131020T043000Z
CLASS:PUBLIC
PRIORITY:5
DTSTAMP:20260420T232647Z
TRANSP:OPAQUE
SEQUENCE:0
X-ALT-DESC;FMTTYPE=text/html:<div>--- This iCal file does *NOT* confirm re
 gistration.Event details subject to change. ---</div><h1>Event Title: Wedd
 ing, private event, doors open at midnight</h1><div>https://www.avantgarde
 nhouston.com/events/913/</div><br /><div>When: Oct 19, 2013 15:15 PM US/Ce
 ntral</div><br /><div></div><div>--- This iCal file does *NOT* confirm reg
 istration.Event details subject to change. ---</div><div>--- Tendenci&reg\
 ; Software by <a href="https://www.tendenci.com">tendenci.com</a> - The Op
 en Source AMS for Associations ---</div>
BEGIN:VALARM
TRIGGER:-PT30M
ACTION:DISPLAY
DESCRIPTION:Reminder
END:VALARM
END:VEVENT
END:VCALENDAR
