BEGIN:VCALENDAR
VERSION:2.0
METHOD:PUBLISH
PRODID:-//Tendenci - The Open Source AMS for Associations//Tendenci Codeba
 se MIMEDIR//EN
BEGIN:VEVENT
DESCRIPTION:--- This iCal file does *NOT* confirm registration.\nEvent det
 ails subject to change. ---\nhttps://www.avantgardenhouston.com/events/964
 /\n\nEvent Title: Day of the dead Celebration\nStart Date / Time: Nov 01, 
 2013 20:16 PM America/Chicago\nLocation: \n\n\n--- This iCal file does *NO
 T* confirm registration.Event details subject to change. ---\n\n--- By Ten
 denci - The Open Source AMS for Associations ---\n
UID:uid964@avantgardenhouston.com
SUMMARY:Day of the dead Celebration
DTSTART:20131102T011600Z
DTEND:20131102T040000Z
CLASS:PUBLIC
PRIORITY:5
DTSTAMP:20260421T002938Z
TRANSP:OPAQUE
SEQUENCE:0
X-ALT-DESC;FMTTYPE=text/html:<div>--- This iCal file does *NOT* confirm re
 gistration.Event details subject to change. ---</div><h1>Event Title: Day 
 of the dead Celebration</h1><div>https://www.avantgardenhouston.com/events
 /964/</div><br /><div>When: Nov 01, 2013 20:16 PM America/Chicago</div><br
  /><div></div><div>--- This iCal file does *NOT* confirm registration.Even
 t details subject to change. ---</div><div>--- Tendenci&reg\; Software by 
 <a href="https://www.tendenci.com">tendenci.com</a> - The Open Source AMS 
 for Associations ---</div>
BEGIN:VALARM
TRIGGER:-PT30M
ACTION:DISPLAY
DESCRIPTION:Reminder
END:VALARM
END:VEVENT
END:VCALENDAR
